BEGIN:VCALENDAR
VERSION:2.0
PRODID:-//Garland Masonic Lodge 441 - ECPv6.15.20//NONSGML v1.0//EN
CALSCALE:GREGORIAN
METHOD:PUBLISH
X-ORIGINAL-URL:https://garlandlodge441.org
X-WR-CALDESC:Events for Garland Masonic Lodge 441
REFRESH-INTERVAL;VALUE=DURATION:PT1H
X-Robots-Tag:noindex
X-PUBLISHED-TTL:PT1H
BEGIN:VTIMEZONE
TZID:America/Chicago
BEGIN:DAYLIGHT
TZOFFSETFROM:-0600
TZOFFSETTO:-0500
TZNAME:CDT
DTSTART:20240310T080000
END:DAYLIGHT
BEGIN:STANDARD
TZOFFSETFROM:-0500
TZOFFSETTO:-0600
TZNAME:CST
DTSTART:20241103T070000
END:STANDARD
BEGIN:DAYLIGHT
TZOFFSETFROM:-0600
TZOFFSETTO:-0500
TZNAME:CDT
DTSTART:20250309T080000
END:DAYLIGHT
BEGIN:STANDARD
TZOFFSETFROM:-0500
TZOFFSETTO:-0600
TZNAME:CST
DTSTART:20251102T070000
END:STANDARD
BEGIN:DAYLIGHT
TZOFFSETFROM:-0600
TZOFFSETTO:-0500
TZNAME:CDT
DTSTART:20260308T080000
END:DAYLIGHT
BEGIN:STANDARD
TZOFFSETFROM:-0500
TZOFFSETTO:-0600
TZNAME:CST
DTSTART:20261101T070000
END:STANDARD
END:VTIMEZONE
BEGIN:VEVENT
DTSTART;TZID=America/Chicago:20250701T180000
DTEND;TZID=America/Chicago:20250701T190000
DTSTAMP:20260423T234604
CREATED:20240522T023839Z
LAST-MODIFIED:20240625T143709Z
UID:180-1751392800-1751396400@garlandlodge441.org
SUMMARY:Fellowship Dinner
DESCRIPTION:Fellowship dinners are held starting at 6pm every Tuesday.
URL:https://garlandlodge441.org/event/fellowship-dinner-15/
LOCATION:Garland Lodge 441\, 125 E State St\, Garland\, TX\, 75040\, United States
CATEGORIES:Fellowship Dinner
ORGANIZER;CN="Lodge Secretary":MAILTO:secretary@garlandlodge441.org
END:VEVENT
BEGIN:VEVENT
DTSTART;TZID=America/Chicago:20250708T180000
DTEND;TZID=America/Chicago:20250708T190000
DTSTAMP:20260423T234604
CREATED:20240624T231504Z
LAST-MODIFIED:20240624T231504Z
UID:323-1751997600-1752001200@garlandlodge441.org
SUMMARY:Fellowship Dinner
DESCRIPTION:Fellowship dinners are held starting at 6pm every Tuesday.
URL:https://garlandlodge441.org/event/fellowship-dinner-40/
LOCATION:Garland Lodge 441\, 125 E State St\, Garland\, TX\, 75040\, United States
CATEGORIES:Fellowship Dinner
ORGANIZER;CN="Lodge Secretary":MAILTO:secretary@garlandlodge441.org
END:VEVENT
BEGIN:VEVENT
DTSTART;TZID=America/Chicago:20250715T180000
DTEND;TZID=America/Chicago:20250715T190000
DTSTAMP:20260423T234604
CREATED:20240625T002409Z
LAST-MODIFIED:20240625T143703Z
UID:470-1752602400-1752606000@garlandlodge441.org
SUMMARY:Fellowship Dinner
DESCRIPTION:Fellowship dinners are held starting at 6pm every Tuesday.
URL:https://garlandlodge441.org/event/fellowship-dinner-81/
LOCATION:Garland Lodge 441\, 125 E State St\, Garland\, TX\, 75040\, United States
CATEGORIES:Fellowship Dinner
ORGANIZER;CN="Lodge Secretary":MAILTO:secretary@garlandlodge441.org
END:VEVENT
BEGIN:VEVENT
DTSTART;TZID=America/Chicago:20250722T180000
DTEND;TZID=America/Chicago:20250722T190000
DTSTAMP:20260423T234604
CREATED:20240625T002409Z
LAST-MODIFIED:20240625T143555Z
UID:471-1753207200-1753210800@garlandlodge441.org
SUMMARY:Fellowship Dinner
DESCRIPTION:Fellowship dinners are held starting at 6pm every Tuesday.
URL:https://garlandlodge441.org/event/fellowship-dinner-82/
LOCATION:Garland Lodge 441\, 125 E State St\, Garland\, TX\, 75040\, United States
CATEGORIES:Fellowship Dinner
ORGANIZER;CN="Lodge Secretary":MAILTO:secretary@garlandlodge441.org
END:VEVENT
BEGIN:VEVENT
DTSTART;TZID=America/Chicago:20250729T180000
DTEND;TZID=America/Chicago:20250729T190000
DTSTAMP:20260423T234604
CREATED:20240625T002409Z
LAST-MODIFIED:20240625T143550Z
UID:472-1753812000-1753815600@garlandlodge441.org
SUMMARY:Fellowship Dinner
DESCRIPTION:Fellowship dinners are held starting at 6pm every Tuesday.
URL:https://garlandlodge441.org/event/fellowship-dinner-83/
LOCATION:Garland Lodge 441\, 125 E State St\, Garland\, TX\, 75040\, United States
CATEGORIES:Fellowship Dinner
ORGANIZER;CN="Lodge Secretary":MAILTO:secretary@garlandlodge441.org
END:VEVENT
END:VCALENDAR