BEGIN:VCALENDAR
VERSION:2.0
PRODID:-//Garland Masonic Lodge 441 - ECPv6.15.20//NONSGML v1.0//EN
CALSCALE:GREGORIAN
METHOD:PUBLISH
X-ORIGINAL-URL:https://garlandlodge441.org
X-WR-CALDESC:Events for Garland Masonic Lodge 441
REFRESH-INTERVAL;VALUE=DURATION:PT1H
X-Robots-Tag:noindex
X-PUBLISHED-TTL:PT1H
BEGIN:VTIMEZONE
TZID:America/Chicago
BEGIN:DAYLIGHT
TZOFFSETFROM:-0600
TZOFFSETTO:-0500
TZNAME:CDT
DTSTART:20240310T080000
END:DAYLIGHT
BEGIN:STANDARD
TZOFFSETFROM:-0500
TZOFFSETTO:-0600
TZNAME:CST
DTSTART:20241103T070000
END:STANDARD
BEGIN:DAYLIGHT
TZOFFSETFROM:-0600
TZOFFSETTO:-0500
TZNAME:CDT
DTSTART:20250309T080000
END:DAYLIGHT
BEGIN:STANDARD
TZOFFSETFROM:-0500
TZOFFSETTO:-0600
TZNAME:CST
DTSTART:20251102T070000
END:STANDARD
BEGIN:DAYLIGHT
TZOFFSETFROM:-0600
TZOFFSETTO:-0500
TZNAME:CDT
DTSTART:20260308T080000
END:DAYLIGHT
BEGIN:STANDARD
TZOFFSETFROM:-0500
TZOFFSETTO:-0600
TZNAME:CST
DTSTART:20261101T070000
END:STANDARD
BEGIN:DAYLIGHT
TZOFFSETFROM:-0600
TZOFFSETTO:-0500
TZNAME:CDT
DTSTART:20270314T080000
END:DAYLIGHT
BEGIN:STANDARD
TZOFFSETFROM:-0500
TZOFFSETTO:-0600
TZNAME:CST
DTSTART:20271107T070000
END:STANDARD
END:VTIMEZONE
BEGIN:VEVENT
DTSTART;TZID=America/Chicago:20260414T180000
DTEND;TZID=America/Chicago:20260414T190000
DTSTAMP:20260423T141212
CREATED:20240624T231523Z
LAST-MODIFIED:20260307T174938Z
UID:332-1776189600-1776193200@garlandlodge441.org
SUMMARY:Past Masters Appreciation
DESCRIPTION:Stated Meeting to follow
URL:https://garlandlodge441.org/event/fellowship-dinner-49/
LOCATION:Garland Lodge 441\, 125 E State St\, Garland\, TX\, 75040\, United States
CATEGORIES:Fellowship Dinner
ORGANIZER;CN="Lodge Secretary":MAILTO:secretary@garlandlodge441.org
END:VEVENT
BEGIN:VEVENT
DTSTART;TZID=America/Chicago:20260310T180000
DTEND;TZID=America/Chicago:20260310T190000
DTSTAMP:20260423T141212
CREATED:20240624T231523Z
LAST-MODIFIED:20240624T231523Z
UID:331-1773165600-1773169200@garlandlodge441.org
SUMMARY:Fellowship Dinner
DESCRIPTION:Fellowship dinners are held starting at 6pm every Tuesday.
URL:https://garlandlodge441.org/event/fellowship-dinner-48/
LOCATION:Garland Lodge 441\, 125 E State St\, Garland\, TX\, 75040\, United States
CATEGORIES:Fellowship Dinner
ORGANIZER;CN="Lodge Secretary":MAILTO:secretary@garlandlodge441.org
END:VEVENT
BEGIN:VEVENT
DTSTART;TZID=America/Chicago:20260221T110000
DTEND;TZID=America/Chicago:20260221T140000
DTSTAMP:20260423T141212
CREATED:20260211T223838Z
LAST-MODIFIED:20260211T223838Z
UID:779-1771671600-1771682400@garlandlodge441.org
SUMMARY:Spaghetti Dinner
DESCRIPTION:Spaghetti Dinner
URL:https://garlandlodge441.org/event/spaghetti-dinner/
LOCATION:Garland Lodge 441\, 125 E State St\, Garland\, TX\, 75040\, United States
CATEGORIES:Community (Public),Fellowship Dinner,Fundraiser
END:VEVENT
BEGIN:VEVENT
DTSTART;TZID=America/Chicago:20260210T180000
DTEND;TZID=America/Chicago:20260210T190000
DTSTAMP:20260423T141212
CREATED:20240624T231519Z
LAST-MODIFIED:20240624T231519Z
UID:330-1770746400-1770750000@garlandlodge441.org
SUMMARY:Fellowship Dinner
DESCRIPTION:Fellowship dinners are held starting at 6pm every Tuesday.
URL:https://garlandlodge441.org/event/fellowship-dinner-47/
LOCATION:Garland Lodge 441\, 125 E State St\, Garland\, TX\, 75040\, United States
CATEGORIES:Fellowship Dinner
ORGANIZER;CN="Lodge Secretary":MAILTO:secretary@garlandlodge441.org
END:VEVENT
BEGIN:VEVENT
DTSTART;TZID=America/Chicago:20260113T180000
DTEND;TZID=America/Chicago:20260113T190000
DTSTAMP:20260423T141212
CREATED:20240624T231519Z
LAST-MODIFIED:20240624T231519Z
UID:329-1768327200-1768330800@garlandlodge441.org
SUMMARY:Fellowship Dinner
DESCRIPTION:Fellowship dinners are held starting at 6pm every Tuesday.
URL:https://garlandlodge441.org/event/fellowship-dinner-46/
LOCATION:Garland Lodge 441\, 125 E State St\, Garland\, TX\, 75040\, United States
CATEGORIES:Fellowship Dinner
ORGANIZER;CN="Lodge Secretary":MAILTO:secretary@garlandlodge441.org
END:VEVENT
BEGIN:VEVENT
DTSTART;TZID=America/Chicago:20251209T180000
DTEND;TZID=America/Chicago:20251209T190000
DTSTAMP:20260423T141212
CREATED:20240624T231519Z
LAST-MODIFIED:20240624T231519Z
UID:328-1765303200-1765306800@garlandlodge441.org
SUMMARY:Fellowship Dinner
DESCRIPTION:Fellowship dinners are held starting at 6pm every Tuesday.
URL:https://garlandlodge441.org/event/fellowship-dinner-45/
LOCATION:Garland Lodge 441\, 125 E State St\, Garland\, TX\, 75040\, United States
CATEGORIES:Fellowship Dinner
ORGANIZER;CN="Lodge Secretary":MAILTO:secretary@garlandlodge441.org
END:VEVENT
BEGIN:VEVENT
DTSTART;TZID=America/Chicago:20251111T180000
DTEND;TZID=America/Chicago:20251111T190000
DTSTAMP:20260423T141212
CREATED:20240624T231519Z
LAST-MODIFIED:20240624T231519Z
UID:327-1762884000-1762887600@garlandlodge441.org
SUMMARY:Fellowship Dinner
DESCRIPTION:Fellowship dinners are held starting at 6pm every Tuesday.
URL:https://garlandlodge441.org/event/fellowship-dinner-44/
LOCATION:Garland Lodge 441\, 125 E State St\, Garland\, TX\, 75040\, United States
CATEGORIES:Fellowship Dinner
ORGANIZER;CN="Lodge Secretary":MAILTO:secretary@garlandlodge441.org
END:VEVENT
BEGIN:VEVENT
DTSTART;TZID=America/Chicago:20251028T180000
DTEND;TZID=America/Chicago:20251028T190000
DTSTAMP:20260423T141212
CREATED:20240625T002439Z
LAST-MODIFIED:20240625T143509Z
UID:482-1761674400-1761678000@garlandlodge441.org
SUMMARY:Fellowship Dinner
DESCRIPTION:Fellowship dinners are held starting at 6pm every Tuesday.
URL:https://garlandlodge441.org/event/fellowship-dinner-90/
LOCATION:Garland Lodge 441\, 125 E State St\, Garland\, TX\, 75040\, United States
CATEGORIES:Fellowship Dinner
ORGANIZER;CN="Lodge Secretary":MAILTO:secretary@garlandlodge441.org
END:VEVENT
BEGIN:VEVENT
DTSTART;TZID=America/Chicago:20251021T180000
DTEND;TZID=America/Chicago:20251021T190000
DTSTAMP:20260423T141212
CREATED:20240625T002439Z
LAST-MODIFIED:20240625T143514Z
UID:481-1761069600-1761073200@garlandlodge441.org
SUMMARY:Fellowship Dinner
DESCRIPTION:Fellowship dinners are held starting at 6pm every Tuesday.
URL:https://garlandlodge441.org/event/fellowship-dinner-89/
LOCATION:Garland Lodge 441\, 125 E State St\, Garland\, TX\, 75040\, United States
CATEGORIES:Fellowship Dinner
ORGANIZER;CN="Lodge Secretary":MAILTO:secretary@garlandlodge441.org
END:VEVENT
BEGIN:VEVENT
DTSTART;TZID=America/Chicago:20251014T180000
DTEND;TZID=America/Chicago:20251014T190000
DTSTAMP:20260423T141212
CREATED:20240624T231519Z
LAST-MODIFIED:20240624T231519Z
UID:326-1760464800-1760468400@garlandlodge441.org
SUMMARY:Fellowship Dinner
DESCRIPTION:Fellowship dinners are held starting at 6pm every Tuesday.
URL:https://garlandlodge441.org/event/fellowship-dinner-43/
LOCATION:Garland Lodge 441\, 125 E State St\, Garland\, TX\, 75040\, United States
CATEGORIES:Fellowship Dinner
ORGANIZER;CN="Lodge Secretary":MAILTO:secretary@garlandlodge441.org
END:VEVENT
BEGIN:VEVENT
DTSTART;TZID=America/Chicago:20251007T180000
DTEND;TZID=America/Chicago:20251007T190000
DTSTAMP:20260423T141212
CREATED:20240522T023909Z
LAST-MODIFIED:20240625T143648Z
UID:186-1759860000-1759863600@garlandlodge441.org
SUMMARY:Fellowship Dinner
DESCRIPTION:Fellowship dinners are held starting at 6pm every Tuesday.
URL:https://garlandlodge441.org/event/fellowship-dinner-18/
LOCATION:Garland Lodge 441\, 125 E State St\, Garland\, TX\, 75040\, United States
CATEGORIES:Fellowship Dinner
ORGANIZER;CN="Lodge Secretary":MAILTO:secretary@garlandlodge441.org
END:VEVENT
BEGIN:VEVENT
DTSTART;TZID=America/Chicago:20250930T180000
DTEND;TZID=America/Chicago:20250930T190000
DTSTAMP:20260423T141212
CREATED:20240625T002439Z
LAST-MODIFIED:20240625T143522Z
UID:479-1759255200-1759258800@garlandlodge441.org
SUMMARY:Fellowship Dinner
DESCRIPTION:Fellowship dinners are held starting at 6pm every Tuesday.
URL:https://garlandlodge441.org/event/fellowship-dinner-88/
LOCATION:Garland Lodge 441\, 125 E State St\, Garland\, TX\, 75040\, United States
CATEGORIES:Fellowship Dinner
ORGANIZER;CN="Lodge Secretary":MAILTO:secretary@garlandlodge441.org
END:VEVENT
BEGIN:VEVENT
DTSTART;TZID=America/Chicago:20250923T180000
DTEND;TZID=America/Chicago:20250923T190000
DTSTAMP:20260423T141212
CREATED:20240625T002439Z
LAST-MODIFIED:20240625T143531Z
UID:478-1758650400-1758654000@garlandlodge441.org
SUMMARY:Fellowship Dinner
DESCRIPTION:Fellowship dinners are held starting at 6pm every Tuesday.
URL:https://garlandlodge441.org/event/fellowship-dinner-87/
LOCATION:Garland Lodge 441\, 125 E State St\, Garland\, TX\, 75040\, United States
CATEGORIES:Fellowship Dinner
ORGANIZER;CN="Lodge Secretary":MAILTO:secretary@garlandlodge441.org
END:VEVENT
BEGIN:VEVENT
DTSTART;TZID=America/Chicago:20250916T180000
DTEND;TZID=America/Chicago:20250916T190000
DTSTAMP:20260423T141212
CREATED:20240625T002424Z
LAST-MODIFIED:20240625T143536Z
UID:477-1758045600-1758049200@garlandlodge441.org
SUMMARY:Fellowship Dinner
DESCRIPTION:Fellowship dinners are held starting at 6pm every Tuesday.
URL:https://garlandlodge441.org/event/fellowship-dinner-86/
LOCATION:Garland Lodge 441\, 125 E State St\, Garland\, TX\, 75040\, United States
CATEGORIES:Fellowship Dinner
ORGANIZER;CN="Lodge Secretary":MAILTO:secretary@garlandlodge441.org
END:VEVENT
BEGIN:VEVENT
DTSTART;TZID=America/Chicago:20250909T180000
DTEND;TZID=America/Chicago:20250909T190000
DTSTAMP:20260423T141212
CREATED:20240624T231504Z
LAST-MODIFIED:20240624T231504Z
UID:325-1757440800-1757444400@garlandlodge441.org
SUMMARY:Fellowship Dinner
DESCRIPTION:Fellowship dinners are held starting at 6pm every Tuesday.
URL:https://garlandlodge441.org/event/fellowship-dinner-42/
LOCATION:Garland Lodge 441\, 125 E State St\, Garland\, TX\, 75040\, United States
CATEGORIES:Fellowship Dinner
ORGANIZER;CN="Lodge Secretary":MAILTO:secretary@garlandlodge441.org
END:VEVENT
BEGIN:VEVENT
DTSTART;TZID=America/Chicago:20250902T180000
DTEND;TZID=America/Chicago:20250902T190000
DTSTAMP:20260423T141212
CREATED:20240522T023854Z
LAST-MODIFIED:20240625T143653Z
UID:184-1756836000-1756839600@garlandlodge441.org
SUMMARY:Fellowship Dinner
DESCRIPTION:Fellowship dinners are held starting at 6pm every Tuesday.
URL:https://garlandlodge441.org/event/fellowship-dinner-17/
LOCATION:Garland Lodge 441\, 125 E State St\, Garland\, TX\, 75040\, United States
CATEGORIES:Fellowship Dinner
ORGANIZER;CN="Lodge Secretary":MAILTO:secretary@garlandlodge441.org
END:VEVENT
BEGIN:VEVENT
DTSTART;TZID=America/Chicago:20250826T180000
DTEND;TZID=America/Chicago:20250826T190000
DTSTAMP:20260423T141212
CREATED:20240625T002424Z
LAST-MODIFIED:20240625T143541Z
UID:475-1756231200-1756234800@garlandlodge441.org
SUMMARY:Fellowship Dinner
DESCRIPTION:Fellowship dinners are held starting at 6pm every Tuesday.
URL:https://garlandlodge441.org/event/fellowship-dinner-85/
LOCATION:Garland Lodge 441\, 125 E State St\, Garland\, TX\, 75040\, United States
CATEGORIES:Fellowship Dinner
ORGANIZER;CN="Lodge Secretary":MAILTO:secretary@garlandlodge441.org
END:VEVENT
BEGIN:VEVENT
DTSTART;TZID=America/Chicago:20250819T180000
DTEND;TZID=America/Chicago:20250819T190000
DTSTAMP:20260423T141212
CREATED:20240625T002424Z
LAST-MODIFIED:20240625T143546Z
UID:474-1755626400-1755630000@garlandlodge441.org
SUMMARY:Fellowship Dinner
DESCRIPTION:Fellowship dinners are held starting at 6pm every Tuesday.
URL:https://garlandlodge441.org/event/fellowship-dinner-84/
LOCATION:Garland Lodge 441\, 125 E State St\, Garland\, TX\, 75040\, United States
CATEGORIES:Fellowship Dinner
ORGANIZER;CN="Lodge Secretary":MAILTO:secretary@garlandlodge441.org
END:VEVENT
BEGIN:VEVENT
DTSTART;TZID=America/Chicago:20250812T180000
DTEND;TZID=America/Chicago:20250812T190000
DTSTAMP:20260423T141212
CREATED:20240624T231504Z
LAST-MODIFIED:20240624T231504Z
UID:324-1755021600-1755025200@garlandlodge441.org
SUMMARY:Fellowship Dinner
DESCRIPTION:Fellowship dinners are held starting at 6pm every Tuesday.
URL:https://garlandlodge441.org/event/fellowship-dinner-41/
LOCATION:Garland Lodge 441\, 125 E State St\, Garland\, TX\, 75040\, United States
CATEGORIES:Fellowship Dinner
ORGANIZER;CN="Lodge Secretary":MAILTO:secretary@garlandlodge441.org
END:VEVENT
BEGIN:VEVENT
DTSTART;TZID=America/Chicago:20250805T180000
DTEND;TZID=America/Chicago:20250805T190000
DTSTAMP:20260423T141212
CREATED:20240522T023854Z
LAST-MODIFIED:20240625T143657Z
UID:182-1754416800-1754420400@garlandlodge441.org
SUMMARY:Fellowship Dinner
DESCRIPTION:Fellowship dinners are held starting at 6pm every Tuesday.
URL:https://garlandlodge441.org/event/fellowship-dinner-16/
LOCATION:Garland Lodge 441\, 125 E State St\, Garland\, TX\, 75040\, United States
CATEGORIES:Fellowship Dinner
ORGANIZER;CN="Lodge Secretary":MAILTO:secretary@garlandlodge441.org
END:VEVENT
BEGIN:VEVENT
DTSTART;TZID=America/Chicago:20250729T180000
DTEND;TZID=America/Chicago:20250729T190000
DTSTAMP:20260423T141212
CREATED:20240625T002409Z
LAST-MODIFIED:20240625T143550Z
UID:472-1753812000-1753815600@garlandlodge441.org
SUMMARY:Fellowship Dinner
DESCRIPTION:Fellowship dinners are held starting at 6pm every Tuesday.
URL:https://garlandlodge441.org/event/fellowship-dinner-83/
LOCATION:Garland Lodge 441\, 125 E State St\, Garland\, TX\, 75040\, United States
CATEGORIES:Fellowship Dinner
ORGANIZER;CN="Lodge Secretary":MAILTO:secretary@garlandlodge441.org
END:VEVENT
BEGIN:VEVENT
DTSTART;TZID=America/Chicago:20250722T180000
DTEND;TZID=America/Chicago:20250722T190000
DTSTAMP:20260423T141212
CREATED:20240625T002409Z
LAST-MODIFIED:20240625T143555Z
UID:471-1753207200-1753210800@garlandlodge441.org
SUMMARY:Fellowship Dinner
DESCRIPTION:Fellowship dinners are held starting at 6pm every Tuesday.
URL:https://garlandlodge441.org/event/fellowship-dinner-82/
LOCATION:Garland Lodge 441\, 125 E State St\, Garland\, TX\, 75040\, United States
CATEGORIES:Fellowship Dinner
ORGANIZER;CN="Lodge Secretary":MAILTO:secretary@garlandlodge441.org
END:VEVENT
BEGIN:VEVENT
DTSTART;TZID=America/Chicago:20250715T180000
DTEND;TZID=America/Chicago:20250715T190000
DTSTAMP:20260423T141212
CREATED:20240625T002409Z
LAST-MODIFIED:20240625T143703Z
UID:470-1752602400-1752606000@garlandlodge441.org
SUMMARY:Fellowship Dinner
DESCRIPTION:Fellowship dinners are held starting at 6pm every Tuesday.
URL:https://garlandlodge441.org/event/fellowship-dinner-81/
LOCATION:Garland Lodge 441\, 125 E State St\, Garland\, TX\, 75040\, United States
CATEGORIES:Fellowship Dinner
ORGANIZER;CN="Lodge Secretary":MAILTO:secretary@garlandlodge441.org
END:VEVENT
BEGIN:VEVENT
DTSTART;TZID=America/Chicago:20250708T180000
DTEND;TZID=America/Chicago:20250708T190000
DTSTAMP:20260423T141212
CREATED:20240624T231504Z
LAST-MODIFIED:20240624T231504Z
UID:323-1751997600-1752001200@garlandlodge441.org
SUMMARY:Fellowship Dinner
DESCRIPTION:Fellowship dinners are held starting at 6pm every Tuesday.
URL:https://garlandlodge441.org/event/fellowship-dinner-40/
LOCATION:Garland Lodge 441\, 125 E State St\, Garland\, TX\, 75040\, United States
CATEGORIES:Fellowship Dinner
ORGANIZER;CN="Lodge Secretary":MAILTO:secretary@garlandlodge441.org
END:VEVENT
BEGIN:VEVENT
DTSTART;TZID=America/Chicago:20250701T180000
DTEND;TZID=America/Chicago:20250701T190000
DTSTAMP:20260423T141212
CREATED:20240522T023839Z
LAST-MODIFIED:20240625T143709Z
UID:180-1751392800-1751396400@garlandlodge441.org
SUMMARY:Fellowship Dinner
DESCRIPTION:Fellowship dinners are held starting at 6pm every Tuesday.
URL:https://garlandlodge441.org/event/fellowship-dinner-15/
LOCATION:Garland Lodge 441\, 125 E State St\, Garland\, TX\, 75040\, United States
CATEGORIES:Fellowship Dinner
ORGANIZER;CN="Lodge Secretary":MAILTO:secretary@garlandlodge441.org
END:VEVENT
BEGIN:VEVENT
DTSTART;TZID=America/Chicago:20250624T180000
DTEND;TZID=America/Chicago:20250624T190000
DTSTAMP:20260423T141212
CREATED:20240625T002409Z
LAST-MODIFIED:20240625T143714Z
UID:468-1750788000-1750791600@garlandlodge441.org
SUMMARY:Fellowship Dinner
DESCRIPTION:Fellowship dinners are held starting at 6pm every Tuesday.
URL:https://garlandlodge441.org/event/fellowship-dinner-80/
LOCATION:Garland Lodge 441\, 125 E State St\, Garland\, TX\, 75040\, United States
CATEGORIES:Fellowship Dinner
ORGANIZER;CN="Lodge Secretary":MAILTO:secretary@garlandlodge441.org
END:VEVENT
BEGIN:VEVENT
DTSTART;TZID=America/Chicago:20250617T180000
DTEND;TZID=America/Chicago:20250617T190000
DTSTAMP:20260423T141212
CREATED:20240625T002401Z
LAST-MODIFIED:20240625T143720Z
UID:467-1750183200-1750186800@garlandlodge441.org
SUMMARY:Fellowship Dinner
DESCRIPTION:Fellowship dinners are held starting at 6pm every Tuesday.
URL:https://garlandlodge441.org/event/fellowship-dinner-79/
LOCATION:Garland Lodge 441\, 125 E State St\, Garland\, TX\, 75040\, United States
CATEGORIES:Fellowship Dinner
ORGANIZER;CN="Lodge Secretary":MAILTO:secretary@garlandlodge441.org
END:VEVENT
BEGIN:VEVENT
DTSTART;TZID=America/Chicago:20250610T180000
DTEND;TZID=America/Chicago:20250610T190000
DTSTAMP:20260423T141212
CREATED:20240624T231504Z
LAST-MODIFIED:20240624T231504Z
UID:322-1749578400-1749582000@garlandlodge441.org
SUMMARY:Fellowship Dinner
DESCRIPTION:Fellowship dinners are held starting at 6pm every Tuesday.
URL:https://garlandlodge441.org/event/fellowship-dinner-39/
LOCATION:Garland Lodge 441\, 125 E State St\, Garland\, TX\, 75040\, United States
CATEGORIES:Fellowship Dinner
ORGANIZER;CN="Lodge Secretary":MAILTO:secretary@garlandlodge441.org
END:VEVENT
BEGIN:VEVENT
DTSTART;TZID=America/Chicago:20250603T180000
DTEND;TZID=America/Chicago:20250603T190000
DTSTAMP:20260423T141212
CREATED:20240522T023839Z
LAST-MODIFIED:20240625T143725Z
UID:178-1748973600-1748977200@garlandlodge441.org
SUMMARY:Fellowship Dinner
DESCRIPTION:Fellowship dinners are held starting at 6pm every Tuesday.
URL:https://garlandlodge441.org/event/fellowship-dinner-14/
LOCATION:Garland Lodge 441\, 125 E State St\, Garland\, TX\, 75040\, United States
CATEGORIES:Fellowship Dinner
ORGANIZER;CN="Lodge Secretary":MAILTO:secretary@garlandlodge441.org
END:VEVENT
BEGIN:VEVENT
DTSTART;TZID=America/Chicago:20250527T180000
DTEND;TZID=America/Chicago:20250527T190000
DTSTAMP:20260423T141212
CREATED:20240625T002401Z
LAST-MODIFIED:20240625T143729Z
UID:465-1748368800-1748372400@garlandlodge441.org
SUMMARY:Fellowship Dinner
DESCRIPTION:Fellowship dinners are held starting at 6pm every Tuesday.
URL:https://garlandlodge441.org/event/fellowship-dinner-78/
LOCATION:Garland Lodge 441\, 125 E State St\, Garland\, TX\, 75040\, United States
CATEGORIES:Fellowship Dinner
ORGANIZER;CN="Lodge Secretary":MAILTO:secretary@garlandlodge441.org
END:VEVENT
END:VCALENDAR