BEGIN:VCALENDAR
VERSION:2.0
PRODID:-//Garland Masonic Lodge 441 - ECPv6.15.20//NONSGML v1.0//EN
CALSCALE:GREGORIAN
METHOD:PUBLISH
X-WR-CALNAME:Garland Masonic Lodge 441
X-ORIGINAL-URL:https://garlandlodge441.org
X-WR-CALDESC:Events for Garland Masonic Lodge 441
REFRESH-INTERVAL;VALUE=DURATION:PT1H
X-Robots-Tag:noindex
X-PUBLISHED-TTL:PT1H
BEGIN:VTIMEZONE
TZID:America/Chicago
BEGIN:DAYLIGHT
TZOFFSETFROM:-0600
TZOFFSETTO:-0500
TZNAME:CDT
DTSTART:20240310T080000
END:DAYLIGHT
BEGIN:STANDARD
TZOFFSETFROM:-0500
TZOFFSETTO:-0600
TZNAME:CST
DTSTART:20241103T070000
END:STANDARD
BEGIN:DAYLIGHT
TZOFFSETFROM:-0600
TZOFFSETTO:-0500
TZNAME:CDT
DTSTART:20250309T080000
END:DAYLIGHT
BEGIN:STANDARD
TZOFFSETFROM:-0500
TZOFFSETTO:-0600
TZNAME:CST
DTSTART:20251102T070000
END:STANDARD
BEGIN:DAYLIGHT
TZOFFSETFROM:-0600
TZOFFSETTO:-0500
TZNAME:CDT
DTSTART:20260308T080000
END:DAYLIGHT
BEGIN:STANDARD
TZOFFSETFROM:-0500
TZOFFSETTO:-0600
TZNAME:CST
DTSTART:20261101T070000
END:STANDARD
END:VTIMEZONE
BEGIN:VEVENT
DTSTART;TZID=America/Chicago:20250701T180000
DTEND;TZID=America/Chicago:20250701T190000
DTSTAMP:20260423T165802
CREATED:20240522T023839Z
LAST-MODIFIED:20240625T143709Z
UID:180-1751392800-1751396400@garlandlodge441.org
SUMMARY:Fellowship Dinner
DESCRIPTION:Fellowship dinners are held starting at 6pm every Tuesday.
URL:https://garlandlodge441.org/event/fellowship-dinner-15/
LOCATION:Garland Lodge 441\, 125 E State St\, Garland\, TX\, 75040\, United States
CATEGORIES:Fellowship Dinner
ORGANIZER;CN="Lodge Secretary":MAILTO:secretary@garlandlodge441.org
END:VEVENT
BEGIN:VEVENT
DTSTART;TZID=America/Chicago:20250624T180000
DTEND;TZID=America/Chicago:20250624T190000
DTSTAMP:20260423T165802
CREATED:20240625T002409Z
LAST-MODIFIED:20240625T143714Z
UID:468-1750788000-1750791600@garlandlodge441.org
SUMMARY:Fellowship Dinner
DESCRIPTION:Fellowship dinners are held starting at 6pm every Tuesday.
URL:https://garlandlodge441.org/event/fellowship-dinner-80/
LOCATION:Garland Lodge 441\, 125 E State St\, Garland\, TX\, 75040\, United States
CATEGORIES:Fellowship Dinner
ORGANIZER;CN="Lodge Secretary":MAILTO:secretary@garlandlodge441.org
END:VEVENT
BEGIN:VEVENT
DTSTART;TZID=America/Chicago:20250617T180000
DTEND;TZID=America/Chicago:20250617T190000
DTSTAMP:20260423T165802
CREATED:20240625T002401Z
LAST-MODIFIED:20240625T143720Z
UID:467-1750183200-1750186800@garlandlodge441.org
SUMMARY:Fellowship Dinner
DESCRIPTION:Fellowship dinners are held starting at 6pm every Tuesday.
URL:https://garlandlodge441.org/event/fellowship-dinner-79/
LOCATION:Garland Lodge 441\, 125 E State St\, Garland\, TX\, 75040\, United States
CATEGORIES:Fellowship Dinner
ORGANIZER;CN="Lodge Secretary":MAILTO:secretary@garlandlodge441.org
END:VEVENT
BEGIN:VEVENT
DTSTART;TZID=America/Chicago:20250610T180000
DTEND;TZID=America/Chicago:20250610T190000
DTSTAMP:20260423T165802
CREATED:20240624T231504Z
LAST-MODIFIED:20240624T231504Z
UID:322-1749578400-1749582000@garlandlodge441.org
SUMMARY:Fellowship Dinner
DESCRIPTION:Fellowship dinners are held starting at 6pm every Tuesday.
URL:https://garlandlodge441.org/event/fellowship-dinner-39/
LOCATION:Garland Lodge 441\, 125 E State St\, Garland\, TX\, 75040\, United States
CATEGORIES:Fellowship Dinner
ORGANIZER;CN="Lodge Secretary":MAILTO:secretary@garlandlodge441.org
END:VEVENT
BEGIN:VEVENT
DTSTART;TZID=America/Chicago:20250603T180000
DTEND;TZID=America/Chicago:20250603T190000
DTSTAMP:20260423T165802
CREATED:20240522T023839Z
LAST-MODIFIED:20240625T143725Z
UID:178-1748973600-1748977200@garlandlodge441.org
SUMMARY:Fellowship Dinner
DESCRIPTION:Fellowship dinners are held starting at 6pm every Tuesday.
URL:https://garlandlodge441.org/event/fellowship-dinner-14/
LOCATION:Garland Lodge 441\, 125 E State St\, Garland\, TX\, 75040\, United States
CATEGORIES:Fellowship Dinner
ORGANIZER;CN="Lodge Secretary":MAILTO:secretary@garlandlodge441.org
END:VEVENT
BEGIN:VEVENT
DTSTART;TZID=America/Chicago:20250527T180000
DTEND;TZID=America/Chicago:20250527T190000
DTSTAMP:20260423T165802
CREATED:20240625T002401Z
LAST-MODIFIED:20240625T143729Z
UID:465-1748368800-1748372400@garlandlodge441.org
SUMMARY:Fellowship Dinner
DESCRIPTION:Fellowship dinners are held starting at 6pm every Tuesday.
URL:https://garlandlodge441.org/event/fellowship-dinner-78/
LOCATION:Garland Lodge 441\, 125 E State St\, Garland\, TX\, 75040\, United States
CATEGORIES:Fellowship Dinner
ORGANIZER;CN="Lodge Secretary":MAILTO:secretary@garlandlodge441.org
END:VEVENT
BEGIN:VEVENT
DTSTART;TZID=America/Chicago:20250520T180000
DTEND;TZID=America/Chicago:20250520T190000
DTSTAMP:20260423T165802
CREATED:20240625T002401Z
LAST-MODIFIED:20240625T143735Z
UID:464-1747764000-1747767600@garlandlodge441.org
SUMMARY:Fellowship Dinner
DESCRIPTION:Fellowship dinners are held starting at 6pm every Tuesday.
URL:https://garlandlodge441.org/event/fellowship-dinner-77/
LOCATION:Garland Lodge 441\, 125 E State St\, Garland\, TX\, 75040\, United States
CATEGORIES:Fellowship Dinner
ORGANIZER;CN="Lodge Secretary":MAILTO:secretary@garlandlodge441.org
END:VEVENT
BEGIN:VEVENT
DTSTART;TZID=America/Chicago:20250513T180000
DTEND;TZID=America/Chicago:20250513T190000
DTSTAMP:20260423T165802
CREATED:20240624T231504Z
LAST-MODIFIED:20240624T231504Z
UID:321-1747159200-1747162800@garlandlodge441.org
SUMMARY:Fellowship Dinner
DESCRIPTION:Fellowship dinners are held starting at 6pm every Tuesday.
URL:https://garlandlodge441.org/event/fellowship-dinner-38/
LOCATION:Garland Lodge 441\, 125 E State St\, Garland\, TX\, 75040\, United States
CATEGORIES:Fellowship Dinner
ORGANIZER;CN="Lodge Secretary":MAILTO:secretary@garlandlodge441.org
END:VEVENT
BEGIN:VEVENT
DTSTART;TZID=America/Chicago:20250506T180000
DTEND;TZID=America/Chicago:20250506T190000
DTSTAMP:20260423T165802
CREATED:20240522T023839Z
LAST-MODIFIED:20240625T143740Z
UID:176-1746554400-1746558000@garlandlodge441.org
SUMMARY:Fellowship Dinner
DESCRIPTION:Fellowship dinners are held starting at 6pm every Tuesday.
URL:https://garlandlodge441.org/event/fellowship-dinner-13/
LOCATION:Garland Lodge 441\, 125 E State St\, Garland\, TX\, 75040\, United States
CATEGORIES:Fellowship Dinner
ORGANIZER;CN="Lodge Secretary":MAILTO:secretary@garlandlodge441.org
END:VEVENT
BEGIN:VEVENT
DTSTART;TZID=America/Chicago:20250429T180000
DTEND;TZID=America/Chicago:20250429T190000
DTSTAMP:20260423T165802
CREATED:20240625T002355Z
LAST-MODIFIED:20240625T143745Z
UID:462-1745949600-1745953200@garlandlodge441.org
SUMMARY:Fellowship Dinner
DESCRIPTION:Fellowship dinners are held starting at 6pm every Tuesday.
URL:https://garlandlodge441.org/event/fellowship-dinner-76/
LOCATION:Garland Lodge 441\, 125 E State St\, Garland\, TX\, 75040\, United States
CATEGORIES:Fellowship Dinner
ORGANIZER;CN="Lodge Secretary":MAILTO:secretary@garlandlodge441.org
END:VEVENT
END:VCALENDAR