BEGIN:VCALENDAR
VERSION:2.0
PRODID:-//Garland Masonic Lodge 441 - ECPv6.15.20//NONSGML v1.0//EN
CALSCALE:GREGORIAN
METHOD:PUBLISH
X-ORIGINAL-URL:https://garlandlodge441.org
X-WR-CALDESC:Events for Garland Masonic Lodge 441
REFRESH-INTERVAL;VALUE=DURATION:PT1H
X-Robots-Tag:noindex
X-PUBLISHED-TTL:PT1H
BEGIN:VTIMEZONE
TZID:America/Chicago
BEGIN:DAYLIGHT
TZOFFSETFROM:-0600
TZOFFSETTO:-0500
TZNAME:CDT
DTSTART:20250309T080000
END:DAYLIGHT
BEGIN:STANDARD
TZOFFSETFROM:-0500
TZOFFSETTO:-0600
TZNAME:CST
DTSTART:20251102T070000
END:STANDARD
BEGIN:DAYLIGHT
TZOFFSETFROM:-0600
TZOFFSETTO:-0500
TZNAME:CDT
DTSTART:20260308T080000
END:DAYLIGHT
BEGIN:STANDARD
TZOFFSETFROM:-0500
TZOFFSETTO:-0600
TZNAME:CST
DTSTART:20261101T070000
END:STANDARD
BEGIN:DAYLIGHT
TZOFFSETFROM:-0600
TZOFFSETTO:-0500
TZNAME:CDT
DTSTART:20270314T080000
END:DAYLIGHT
BEGIN:STANDARD
TZOFFSETFROM:-0500
TZOFFSETTO:-0600
TZNAME:CST
DTSTART:20271107T070000
END:STANDARD
END:VTIMEZONE
BEGIN:VEVENT
DTSTART;TZID=America/Chicago:20260203T190000
DTEND;TZID=America/Chicago:20260203T200000
DTSTAMP:20260423T142118
CREATED:20240624T233254Z
LAST-MODIFIED:20241016T191826Z
UID:406-1770145200-1770148800@garlandlodge441.org
SUMMARY:Practice Night
DESCRIPTION:Called meetings start at 7pm on Tuesdays that are not stated meetings.
URL:https://garlandlodge441.org/event/called-meeting-65/
LOCATION:Garland Lodge 441\, 125 E State St\, Garland\, TX\, 75040\, United States
CATEGORIES:Lodge Meeting
ORGANIZER;CN="Lodge Secretary":MAILTO:secretary@garlandlodge441.org
END:VEVENT
BEGIN:VEVENT
DTSTART;TZID=America/Chicago:20260210T190000
DTEND;TZID=America/Chicago:20260210T200000
DTSTAMP:20260423T142118
CREATED:20240624T231404Z
LAST-MODIFIED:20240624T231404Z
UID:305-1770750000-1770753600@garlandlodge441.org
SUMMARY:Stated Meeting
DESCRIPTION:Stated meetings are held on the second Tuesday of every month.
URL:https://garlandlodge441.org/event/stated-meeting-47/
LOCATION:Garland Lodge 441\, 125 E State St\, Garland\, TX\, 75040\, United States
CATEGORIES:Lodge Meeting
ORGANIZER;CN="Lodge Secretary":MAILTO:secretary@garlandlodge441.org
END:VEVENT
BEGIN:VEVENT
DTSTART;TZID=America/Chicago:20260217T190000
DTEND;TZID=America/Chicago:20260217T200000
DTSTAMP:20260423T142118
CREATED:20240624T233437Z
LAST-MODIFIED:20241016T191819Z
UID:407-1771354800-1771358400@garlandlodge441.org
SUMMARY:Practice Night
DESCRIPTION:Called meetings start at 7pm on Tuesdays that are not stated meetings.
URL:https://garlandlodge441.org/event/called-meeting-66/
LOCATION:Garland Lodge 441\, 125 E State St\, Garland\, TX\, 75040\, United States
CATEGORIES:Lodge Meeting
ORGANIZER;CN="Lodge Secretary":MAILTO:secretary@garlandlodge441.org
END:VEVENT
BEGIN:VEVENT
DTSTART;TZID=America/Chicago:20260224T190000
DTEND;TZID=America/Chicago:20260224T200000
DTSTAMP:20260423T142118
CREATED:20240624T233437Z
LAST-MODIFIED:20241016T191808Z
UID:408-1771959600-1771963200@garlandlodge441.org
SUMMARY:Practice Night
DESCRIPTION:Called meetings start at 7pm on Tuesdays that are not stated meetings.
URL:https://garlandlodge441.org/event/called-meeting-67/
LOCATION:Garland Lodge 441\, 125 E State St\, Garland\, TX\, 75040\, United States
CATEGORIES:Lodge Meeting
ORGANIZER;CN="Lodge Secretary":MAILTO:secretary@garlandlodge441.org
END:VEVENT
END:VCALENDAR