BEGIN:VCALENDAR
VERSION:2.0
PRODID:-//Garland Masonic Lodge 441 - ECPv6.15.20//NONSGML v1.0//EN
CALSCALE:GREGORIAN
METHOD:PUBLISH
X-WR-CALNAME:Garland Masonic Lodge 441
X-ORIGINAL-URL:https://garlandlodge441.org
X-WR-CALDESC:Events for Garland Masonic Lodge 441
REFRESH-INTERVAL;VALUE=DURATION:PT1H
X-Robots-Tag:noindex
X-PUBLISHED-TTL:PT1H
BEGIN:VTIMEZONE
TZID:America/Chicago
BEGIN:DAYLIGHT
TZOFFSETFROM:-0600
TZOFFSETTO:-0500
TZNAME:CDT
DTSTART:20240310T080000
END:DAYLIGHT
BEGIN:STANDARD
TZOFFSETFROM:-0500
TZOFFSETTO:-0600
TZNAME:CST
DTSTART:20241103T070000
END:STANDARD
BEGIN:DAYLIGHT
TZOFFSETFROM:-0600
TZOFFSETTO:-0500
TZNAME:CDT
DTSTART:20250309T080000
END:DAYLIGHT
BEGIN:STANDARD
TZOFFSETFROM:-0500
TZOFFSETTO:-0600
TZNAME:CST
DTSTART:20251102T070000
END:STANDARD
BEGIN:DAYLIGHT
TZOFFSETFROM:-0600
TZOFFSETTO:-0500
TZNAME:CDT
DTSTART:20260308T080000
END:DAYLIGHT
BEGIN:STANDARD
TZOFFSETFROM:-0500
TZOFFSETTO:-0600
TZNAME:CST
DTSTART:20261101T070000
END:STANDARD
BEGIN:DAYLIGHT
TZOFFSETFROM:-0600
TZOFFSETTO:-0500
TZNAME:CDT
DTSTART:20270314T080000
END:DAYLIGHT
BEGIN:STANDARD
TZOFFSETFROM:-0500
TZOFFSETTO:-0600
TZNAME:CST
DTSTART:20271107T070000
END:STANDARD
END:VTIMEZONE
BEGIN:VEVENT
DTSTART;TZID=America/Chicago:20251230T190000
DTEND;TZID=America/Chicago:20251230T200000
DTSTAMP:20260423T152434
CREATED:20240624T233253Z
LAST-MODIFIED:20241016T191854Z
UID:402-1767121200-1767124800@garlandlodge441.org
SUMMARY:Practice Night
DESCRIPTION:Called meetings start at 7pm on Tuesdays that are not stated meetings.
URL:https://garlandlodge441.org/event/called-meeting-61/
LOCATION:Garland Lodge 441\, 125 E State St\, Garland\, TX\, 75040\, United States
CATEGORIES:Lodge Meeting
ORGANIZER;CN="Lodge Secretary":MAILTO:secretary@garlandlodge441.org
END:VEVENT
BEGIN:VEVENT
DTSTART;TZID=America/Chicago:20260101T100000
DTEND;TZID=America/Chicago:20260101T140000
DTSTAMP:20260423T152434
CREATED:20251220T195605Z
LAST-MODIFIED:20251220T195605Z
UID:693-1767261600-1767276000@garlandlodge441.org
SUMMARY:Hella Shrine - Car and Truck Show 2026
DESCRIPTION:Hella Shrine Temple\n2121 Rowlett Rd. Garland\, TX 75043\nNew Year’s Day Car and Truck Show of 2026
URL:https://garlandlodge441.org/event/hella-shrine-car-and-truck-show-2026/
LOCATION:TX
END:VEVENT
BEGIN:VEVENT
DTSTART;TZID=America/Chicago:20260106T190000
DTEND;TZID=America/Chicago:20260106T200000
DTSTAMP:20260423T152434
CREATED:20240624T233253Z
LAST-MODIFIED:20241016T191848Z
UID:403-1767726000-1767729600@garlandlodge441.org
SUMMARY:Practice Night
DESCRIPTION:Called meetings start at 7pm on Tuesdays that are not stated meetings.
URL:https://garlandlodge441.org/event/called-meeting-62/
LOCATION:Garland Lodge 441\, 125 E State St\, Garland\, TX\, 75040\, United States
CATEGORIES:Lodge Meeting
ORGANIZER;CN="Lodge Secretary":MAILTO:secretary@garlandlodge441.org
END:VEVENT
BEGIN:VEVENT
DTSTART;TZID=America/Chicago:20260113T180000
DTEND;TZID=America/Chicago:20260113T190000
DTSTAMP:20260423T152434
CREATED:20240624T231519Z
LAST-MODIFIED:20240624T231519Z
UID:329-1768327200-1768330800@garlandlodge441.org
SUMMARY:Fellowship Dinner
DESCRIPTION:Fellowship dinners are held starting at 6pm every Tuesday.
URL:https://garlandlodge441.org/event/fellowship-dinner-46/
LOCATION:Garland Lodge 441\, 125 E State St\, Garland\, TX\, 75040\, United States
CATEGORIES:Fellowship Dinner
ORGANIZER;CN="Lodge Secretary":MAILTO:secretary@garlandlodge441.org
END:VEVENT
BEGIN:VEVENT
DTSTART;TZID=America/Chicago:20260113T190000
DTEND;TZID=America/Chicago:20260113T200000
DTSTAMP:20260423T152434
CREATED:20240624T231404Z
LAST-MODIFIED:20240624T231404Z
UID:304-1768330800-1768334400@garlandlodge441.org
SUMMARY:Stated Meeting
DESCRIPTION:Stated meetings are held on the second Tuesday of every month.
URL:https://garlandlodge441.org/event/stated-meeting-46/
LOCATION:Garland Lodge 441\, 125 E State St\, Garland\, TX\, 75040\, United States
CATEGORIES:Lodge Meeting
ORGANIZER;CN="Lodge Secretary":MAILTO:secretary@garlandlodge441.org
END:VEVENT
BEGIN:VEVENT
DTSTART;TZID=America/Chicago:20260119T180000
DTEND;TZID=America/Chicago:20260119T190000
DTSTAMP:20260423T152434
CREATED:20260116T154018Z
LAST-MODIFIED:20260116T155030Z
UID:713-1768845600-1768849200@garlandlodge441.org
SUMMARY:Practice Night (Flexible)
DESCRIPTION:This is a recurring flexible practice night.
URL:https://garlandlodge441.org/event/practice-night-flexible/
LOCATION:Garland Lodge 441\, 125 E State St\, Garland\, TX\, 75040\, United States
ORGANIZER;CN="Lodge Secretary":MAILTO:secretary@garlandlodge441.org
END:VEVENT
BEGIN:VEVENT
DTSTART;TZID=America/Chicago:20260120T190000
DTEND;TZID=America/Chicago:20260120T200000
DTSTAMP:20260423T152434
CREATED:20240624T233253Z
LAST-MODIFIED:20241016T191841Z
UID:404-1768935600-1768939200@garlandlodge441.org
SUMMARY:Practice Night
DESCRIPTION:Called meetings start at 7pm on Tuesdays that are not stated meetings.
URL:https://garlandlodge441.org/event/called-meeting-63/
LOCATION:Garland Lodge 441\, 125 E State St\, Garland\, TX\, 75040\, United States
CATEGORIES:Lodge Meeting
ORGANIZER;CN="Lodge Secretary":MAILTO:secretary@garlandlodge441.org
END:VEVENT
BEGIN:VEVENT
DTSTART;VALUE=DATE:20260126
DTEND;VALUE=DATE:20260127
DTSTAMP:20260423T152434
CREATED:20260124T192943Z
LAST-MODIFIED:20260124T192943Z
UID:771-1769385600-1769471999@garlandlodge441.org
SUMMARY:Lodge Dark (Weather)
DESCRIPTION:Lodge is dark due to weather.
URL:https://garlandlodge441.org/event/lodge-dark-weather/
LOCATION:Garland Lodge 441\, 125 E State St\, Garland\, TX\, 75040\, United States
CATEGORIES:Lodge Meeting
ORGANIZER;CN="Lodge Secretary":MAILTO:secretary@garlandlodge441.org
END:VEVENT
BEGIN:VEVENT
DTSTART;TZID=America/Chicago:20260127T190000
DTEND;TZID=America/Chicago:20260127T200000
DTSTAMP:20260423T152434
CREATED:20240624T233253Z
LAST-MODIFIED:20241016T191833Z
UID:405-1769540400-1769544000@garlandlodge441.org
SUMMARY:Practice Night
DESCRIPTION:Called meetings start at 7pm on Tuesdays that are not stated meetings.
URL:https://garlandlodge441.org/event/called-meeting-64/
LOCATION:Garland Lodge 441\, 125 E State St\, Garland\, TX\, 75040\, United States
CATEGORIES:Lodge Meeting
ORGANIZER;CN="Lodge Secretary":MAILTO:secretary@garlandlodge441.org
END:VEVENT
BEGIN:VEVENT
DTSTART;TZID=America/Chicago:20260203T190000
DTEND;TZID=America/Chicago:20260203T200000
DTSTAMP:20260423T152434
CREATED:20240624T233254Z
LAST-MODIFIED:20241016T191826Z
UID:406-1770145200-1770148800@garlandlodge441.org
SUMMARY:Practice Night
DESCRIPTION:Called meetings start at 7pm on Tuesdays that are not stated meetings.
URL:https://garlandlodge441.org/event/called-meeting-65/
LOCATION:Garland Lodge 441\, 125 E State St\, Garland\, TX\, 75040\, United States
CATEGORIES:Lodge Meeting
ORGANIZER;CN="Lodge Secretary":MAILTO:secretary@garlandlodge441.org
END:VEVENT
BEGIN:VEVENT
DTSTART;TZID=America/Chicago:20260210T180000
DTEND;TZID=America/Chicago:20260210T190000
DTSTAMP:20260423T152434
CREATED:20240624T231519Z
LAST-MODIFIED:20240624T231519Z
UID:330-1770746400-1770750000@garlandlodge441.org
SUMMARY:Fellowship Dinner
DESCRIPTION:Fellowship dinners are held starting at 6pm every Tuesday.
URL:https://garlandlodge441.org/event/fellowship-dinner-47/
LOCATION:Garland Lodge 441\, 125 E State St\, Garland\, TX\, 75040\, United States
CATEGORIES:Fellowship Dinner
ORGANIZER;CN="Lodge Secretary":MAILTO:secretary@garlandlodge441.org
END:VEVENT
BEGIN:VEVENT
DTSTART;TZID=America/Chicago:20260210T190000
DTEND;TZID=America/Chicago:20260210T200000
DTSTAMP:20260423T152434
CREATED:20240624T231404Z
LAST-MODIFIED:20240624T231404Z
UID:305-1770750000-1770753600@garlandlodge441.org
SUMMARY:Stated Meeting
DESCRIPTION:Stated meetings are held on the second Tuesday of every month.
URL:https://garlandlodge441.org/event/stated-meeting-47/
LOCATION:Garland Lodge 441\, 125 E State St\, Garland\, TX\, 75040\, United States
CATEGORIES:Lodge Meeting
ORGANIZER;CN="Lodge Secretary":MAILTO:secretary@garlandlodge441.org
END:VEVENT
BEGIN:VEVENT
DTSTART;TZID=America/Chicago:20260217T190000
DTEND;TZID=America/Chicago:20260217T200000
DTSTAMP:20260423T152434
CREATED:20240624T233437Z
LAST-MODIFIED:20241016T191819Z
UID:407-1771354800-1771358400@garlandlodge441.org
SUMMARY:Practice Night
DESCRIPTION:Called meetings start at 7pm on Tuesdays that are not stated meetings.
URL:https://garlandlodge441.org/event/called-meeting-66/
LOCATION:Garland Lodge 441\, 125 E State St\, Garland\, TX\, 75040\, United States
CATEGORIES:Lodge Meeting
ORGANIZER;CN="Lodge Secretary":MAILTO:secretary@garlandlodge441.org
END:VEVENT
BEGIN:VEVENT
DTSTART;TZID=America/Chicago:20260221T110000
DTEND;TZID=America/Chicago:20260221T140000
DTSTAMP:20260423T152434
CREATED:20260211T223838Z
LAST-MODIFIED:20260211T223838Z
UID:779-1771671600-1771682400@garlandlodge441.org
SUMMARY:Spaghetti Dinner
DESCRIPTION:Spaghetti Dinner
URL:https://garlandlodge441.org/event/spaghetti-dinner/
LOCATION:Garland Lodge 441\, 125 E State St\, Garland\, TX\, 75040\, United States
CATEGORIES:Community (Public),Fellowship Dinner,Fundraiser
END:VEVENT
BEGIN:VEVENT
DTSTART;TZID=America/Chicago:20260224T190000
DTEND;TZID=America/Chicago:20260224T200000
DTSTAMP:20260423T152434
CREATED:20240624T233437Z
LAST-MODIFIED:20241016T191808Z
UID:408-1771959600-1771963200@garlandlodge441.org
SUMMARY:Practice Night
DESCRIPTION:Called meetings start at 7pm on Tuesdays that are not stated meetings.
URL:https://garlandlodge441.org/event/called-meeting-67/
LOCATION:Garland Lodge 441\, 125 E State St\, Garland\, TX\, 75040\, United States
CATEGORIES:Lodge Meeting
ORGANIZER;CN="Lodge Secretary":MAILTO:secretary@garlandlodge441.org
END:VEVENT
BEGIN:VEVENT
DTSTART;TZID=America/Chicago:20260226T180000
DTEND;TZID=America/Chicago:20260226T200000
DTSTAMP:20260423T152434
CREATED:20260211T223401Z
LAST-MODIFIED:20260211T223401Z
UID:776-1772128800-1772136000@garlandlodge441.org
SUMMARY:Texas Masonic Retirement Center Presentation
DESCRIPTION:
URL:https://garlandlodge441.org/event/texas-masonic-retirement-center-presentation/
LOCATION:Garland Lodge 441\, 125 E State St\, Garland\, TX\, 75040\, United States
CATEGORIES:Community (Public),Fellowship
END:VEVENT
BEGIN:VEVENT
DTSTART;TZID=America/Chicago:20260303T190000
DTEND;TZID=America/Chicago:20260303T200000
DTSTAMP:20260423T152434
CREATED:20240624T233437Z
LAST-MODIFIED:20241016T191801Z
UID:409-1772564400-1772568000@garlandlodge441.org
SUMMARY:Practice Night
DESCRIPTION:Called meetings start at 7pm on Tuesdays that are not stated meetings.
URL:https://garlandlodge441.org/event/called-meeting-68/
LOCATION:Garland Lodge 441\, 125 E State St\, Garland\, TX\, 75040\, United States
CATEGORIES:Lodge Meeting
ORGANIZER;CN="Lodge Secretary":MAILTO:secretary@garlandlodge441.org
END:VEVENT
BEGIN:VEVENT
DTSTART;TZID=America/Chicago:20260307T100000
DTEND;TZID=America/Chicago:20260307T120000
DTSTAMP:20260423T152434
CREATED:20260306T213642Z
LAST-MODIFIED:20260306T213642Z
UID:787-1772877600-1772884800@garlandlodge441.org
SUMMARY:Pin Ceremony for Masonic Anniversaries
DESCRIPTION:Pin Ceremony for Masonic Anniversaries
URL:https://garlandlodge441.org/event/pin-ceremony-for-masonic-anniversaries/
LOCATION:Garland Lodge 441\, 125 E State St\, Garland\, TX\, 75040\, United States
ORGANIZER;CN="Lodge Secretary":MAILTO:secretary@garlandlodge441.org
END:VEVENT
BEGIN:VEVENT
DTSTART;TZID=America/Chicago:20260309T183000
DTEND;TZID=America/Chicago:20260309T203000
DTSTAMP:20260423T152434
CREATED:20260306T214117Z
LAST-MODIFIED:20260306T214350Z
UID:789-1773081000-1773088200@garlandlodge441.org
SUMMARY:Visiting Duck Creek in Support of DDGM
DESCRIPTION:Wear the blue lodge shirts!
URL:https://garlandlodge441.org/event/visiting-duck-creek-in-support-of-ddgm-blue-shirts/
LOCATION:Duck Creek Lodge\, 600 N. 5th Street\, Garland\, Texas\, 75040\, United States
ORGANIZER;CN="Lodge Secretary":MAILTO:secretary@garlandlodge441.org
END:VEVENT
BEGIN:VEVENT
DTSTART;TZID=America/Chicago:20260310T180000
DTEND;TZID=America/Chicago:20260310T190000
DTSTAMP:20260423T152434
CREATED:20240624T231523Z
LAST-MODIFIED:20240624T231523Z
UID:331-1773165600-1773169200@garlandlodge441.org
SUMMARY:Fellowship Dinner
DESCRIPTION:Fellowship dinners are held starting at 6pm every Tuesday.
URL:https://garlandlodge441.org/event/fellowship-dinner-48/
LOCATION:Garland Lodge 441\, 125 E State St\, Garland\, TX\, 75040\, United States
CATEGORIES:Fellowship Dinner
ORGANIZER;CN="Lodge Secretary":MAILTO:secretary@garlandlodge441.org
END:VEVENT
BEGIN:VEVENT
DTSTART;TZID=America/Chicago:20260310T190000
DTEND;TZID=America/Chicago:20260310T200000
DTSTAMP:20260423T152434
CREATED:20240624T231419Z
LAST-MODIFIED:20240624T231419Z
UID:306-1773169200-1773172800@garlandlodge441.org
SUMMARY:Stated Meeting
DESCRIPTION:Stated meetings are held on the second Tuesday of every month.
URL:https://garlandlodge441.org/event/stated-meeting-48/
LOCATION:Garland Lodge 441\, 125 E State St\, Garland\, TX\, 75040\, United States
CATEGORIES:Lodge Meeting
ORGANIZER;CN="Lodge Secretary":MAILTO:secretary@garlandlodge441.org
END:VEVENT
BEGIN:VEVENT
DTSTART;TZID=America/Chicago:20260314T140000
DTEND;TZID=America/Chicago:20260314T160000
DTSTAMP:20260423T152434
CREATED:20260307T174316Z
LAST-MODIFIED:20260308T231734Z
UID:794-1773496800-1773504000@garlandlodge441.org
SUMMARY:Lamar Award Ceremony
DESCRIPTION:Lite Appetizers Afterwards
URL:https://garlandlodge441.org/event/lamar-award-ceremony/
LOCATION:Garland Lodge 441\, 125 E State St\, Garland\, TX\, 75040\, United States
ORGANIZER;CN="Lodge Secretary":MAILTO:secretary@garlandlodge441.org
END:VEVENT
BEGIN:VEVENT
DTSTART;TZID=America/Chicago:20260317T190000
DTEND;TZID=America/Chicago:20260317T200000
DTSTAMP:20260423T152434
CREATED:20240624T233437Z
LAST-MODIFIED:20241016T191753Z
UID:410-1773774000-1773777600@garlandlodge441.org
SUMMARY:Practice Night
DESCRIPTION:Called meetings start at 7pm on Tuesdays that are not stated meetings.
URL:https://garlandlodge441.org/event/called-meeting-69/
LOCATION:Garland Lodge 441\, 125 E State St\, Garland\, TX\, 75040\, United States
CATEGORIES:Lodge Meeting
ORGANIZER;CN="Lodge Secretary":MAILTO:secretary@garlandlodge441.org
END:VEVENT
BEGIN:VEVENT
DTSTART;TZID=America/Chicago:20260320T180000
DTEND;TZID=America/Chicago:20260320T210000
DTSTAMP:20260423T152434
CREATED:20260311T025252Z
LAST-MODIFIED:20260311T025252Z
UID:812-1774029600-1774040400@garlandlodge441.org
SUMMARY:Five Loaves Gala
DESCRIPTION:Fundraiser to support ministry.
URL:https://garlandlodge441.org/event/five-loaves-gala/
LOCATION:TX
CATEGORIES:Fundraiser
END:VEVENT
BEGIN:VEVENT
DTSTART;TZID=America/Chicago:20260321T140000
DTEND;TZID=America/Chicago:20260321T160000
DTSTAMP:20260423T152434
CREATED:20260307T174613Z
LAST-MODIFIED:20260308T231857Z
UID:796-1774101600-1774108800@garlandlodge441.org
SUMMARY:Community Builder Ceremony
DESCRIPTION:Lite Appetizers Afterwards
URL:https://garlandlodge441.org/event/community-builder-ceremony/
LOCATION:Garland Lodge 441\, 125 E State St\, Garland\, TX\, 75040\, United States
ORGANIZER;CN="Lodge Secretary":MAILTO:secretary@garlandlodge441.org
END:VEVENT
BEGIN:VEVENT
DTSTART;TZID=America/Chicago:20260324T190000
DTEND;TZID=America/Chicago:20260324T200000
DTSTAMP:20260423T152434
CREATED:20240624T233438Z
LAST-MODIFIED:20241016T191746Z
UID:411-1774378800-1774382400@garlandlodge441.org
SUMMARY:Practice Night
DESCRIPTION:Called meetings start at 7pm on Tuesdays that are not stated meetings.
URL:https://garlandlodge441.org/event/called-meeting-70/
LOCATION:Garland Lodge 441\, 125 E State St\, Garland\, TX\, 75040\, United States
CATEGORIES:Lodge Meeting
ORGANIZER;CN="Lodge Secretary":MAILTO:secretary@garlandlodge441.org
END:VEVENT
BEGIN:VEVENT
DTSTART;TZID=America/Chicago:20260331T180000
DTEND;TZID=America/Chicago:20260331T200000
DTSTAMP:20260423T152434
CREATED:20240624T233454Z
LAST-MODIFIED:20260311T142213Z
UID:413-1774980000-1774987200@garlandlodge441.org
SUMMARY:Family Dinner Out - Backyard Murphy
DESCRIPTION:No practice tonight.  Dinner starts at 6pm.
URL:https://garlandlodge441.org/event/called-meeting-71/
LOCATION:BackYard in Murphy\, 217 E FM 544\, Murphy\, 75094\, United States
CATEGORIES:Lodge Meeting
ORGANIZER;CN="Lodge Secretary":MAILTO:secretary@garlandlodge441.org
END:VEVENT
BEGIN:VEVENT
DTSTART;TZID=America/Chicago:20260407T190000
DTEND;TZID=America/Chicago:20260407T200000
DTSTAMP:20260423T152434
CREATED:20240624T233454Z
LAST-MODIFIED:20241016T191703Z
UID:414-1775588400-1775592000@garlandlodge441.org
SUMMARY:Practice Night
DESCRIPTION:Called meetings start at 7pm on Tuesdays that are not stated meetings.
URL:https://garlandlodge441.org/event/called-meeting-72/
LOCATION:Garland Lodge 441\, 125 E State St\, Garland\, TX\, 75040\, United States
CATEGORIES:Lodge Meeting
ORGANIZER;CN="Lodge Secretary":MAILTO:secretary@garlandlodge441.org
END:VEVENT
BEGIN:VEVENT
DTSTART;TZID=America/Chicago:20260411T180000
DTEND;TZID=America/Chicago:20260411T210000
DTSTAMP:20260423T152434
CREATED:20260311T030944Z
LAST-MODIFIED:20260311T030944Z
UID:821-1775930400-1775941200@garlandlodge441.org
SUMMARY:Taste of Garland
DESCRIPTION:All you can eat – benefiting Garland Crime Stoppers\nSee Greg to sign up.\ngarlandcrimestoppers.org/TasteOfGarland2026
URL:https://garlandlodge441.org/event/taste-of-garland/
LOCATION:The Atrium at Granville Arts Center\, 300 North Fifth Street\, Garland\, TX\, 75040\, United States
END:VEVENT
BEGIN:VEVENT
DTSTART;TZID=America/Chicago:20260414T180000
DTEND;TZID=America/Chicago:20260414T190000
DTSTAMP:20260423T152434
CREATED:20240624T231523Z
LAST-MODIFIED:20260307T174938Z
UID:332-1776189600-1776193200@garlandlodge441.org
SUMMARY:Past Masters Appreciation
DESCRIPTION:Stated Meeting to follow
URL:https://garlandlodge441.org/event/fellowship-dinner-49/
LOCATION:Garland Lodge 441\, 125 E State St\, Garland\, TX\, 75040\, United States
CATEGORIES:Fellowship Dinner
ORGANIZER;CN="Lodge Secretary":MAILTO:secretary@garlandlodge441.org
END:VEVENT
END:VCALENDAR