BEGIN:VCALENDAR
VERSION:2.0
PRODID:-//Garland Masonic Lodge 441 - ECPv6.15.20//NONSGML v1.0//EN
CALSCALE:GREGORIAN
METHOD:PUBLISH
X-ORIGINAL-URL:https://garlandlodge441.org
X-WR-CALDESC:Events for Garland Masonic Lodge 441
REFRESH-INTERVAL;VALUE=DURATION:PT1H
X-Robots-Tag:noindex
X-PUBLISHED-TTL:PT1H
BEGIN:VTIMEZONE
TZID:America/Chicago
BEGIN:DAYLIGHT
TZOFFSETFROM:-0600
TZOFFSETTO:-0500
TZNAME:CDT
DTSTART:20250309T080000
END:DAYLIGHT
BEGIN:STANDARD
TZOFFSETFROM:-0500
TZOFFSETTO:-0600
TZNAME:CST
DTSTART:20251102T070000
END:STANDARD
BEGIN:DAYLIGHT
TZOFFSETFROM:-0600
TZOFFSETTO:-0500
TZNAME:CDT
DTSTART:20260308T080000
END:DAYLIGHT
BEGIN:STANDARD
TZOFFSETFROM:-0500
TZOFFSETTO:-0600
TZNAME:CST
DTSTART:20261101T070000
END:STANDARD
BEGIN:DAYLIGHT
TZOFFSETFROM:-0600
TZOFFSETTO:-0500
TZNAME:CDT
DTSTART:20270314T080000
END:DAYLIGHT
BEGIN:STANDARD
TZOFFSETFROM:-0500
TZOFFSETTO:-0600
TZNAME:CST
DTSTART:20271107T070000
END:STANDARD
END:VTIMEZONE
BEGIN:VEVENT
DTSTART;TZID=America/Chicago:20260331T180000
DTEND;TZID=America/Chicago:20260331T200000
DTSTAMP:20260423T164054
CREATED:20240624T233454Z
LAST-MODIFIED:20260311T142213Z
UID:413-1774980000-1774987200@garlandlodge441.org
SUMMARY:Family Dinner Out - Backyard Murphy
DESCRIPTION:No practice tonight.  Dinner starts at 6pm.
URL:https://garlandlodge441.org/event/called-meeting-71/
LOCATION:BackYard in Murphy\, 217 E FM 544\, Murphy\, 75094\, United States
CATEGORIES:Lodge Meeting
ORGANIZER;CN="Lodge Secretary":MAILTO:secretary@garlandlodge441.org
END:VEVENT
BEGIN:VEVENT
DTSTART;TZID=America/Chicago:20260407T190000
DTEND;TZID=America/Chicago:20260407T200000
DTSTAMP:20260423T164054
CREATED:20240624T233454Z
LAST-MODIFIED:20241016T191703Z
UID:414-1775588400-1775592000@garlandlodge441.org
SUMMARY:Practice Night
DESCRIPTION:Called meetings start at 7pm on Tuesdays that are not stated meetings.
URL:https://garlandlodge441.org/event/called-meeting-72/
LOCATION:Garland Lodge 441\, 125 E State St\, Garland\, TX\, 75040\, United States
CATEGORIES:Lodge Meeting
ORGANIZER;CN="Lodge Secretary":MAILTO:secretary@garlandlodge441.org
END:VEVENT
BEGIN:VEVENT
DTSTART;TZID=America/Chicago:20260411T180000
DTEND;TZID=America/Chicago:20260411T210000
DTSTAMP:20260423T164054
CREATED:20260311T030944Z
LAST-MODIFIED:20260311T030944Z
UID:821-1775930400-1775941200@garlandlodge441.org
SUMMARY:Taste of Garland
DESCRIPTION:All you can eat – benefiting Garland Crime Stoppers\nSee Greg to sign up.\ngarlandcrimestoppers.org/TasteOfGarland2026
URL:https://garlandlodge441.org/event/taste-of-garland/
LOCATION:The Atrium at Granville Arts Center\, 300 North Fifth Street\, Garland\, TX\, 75040\, United States
END:VEVENT
BEGIN:VEVENT
DTSTART;TZID=America/Chicago:20260414T180000
DTEND;TZID=America/Chicago:20260414T190000
DTSTAMP:20260423T164054
CREATED:20240624T231523Z
LAST-MODIFIED:20260307T174938Z
UID:332-1776189600-1776193200@garlandlodge441.org
SUMMARY:Past Masters Appreciation
DESCRIPTION:Stated Meeting to follow
URL:https://garlandlodge441.org/event/fellowship-dinner-49/
LOCATION:Garland Lodge 441\, 125 E State St\, Garland\, TX\, 75040\, United States
CATEGORIES:Fellowship Dinner
ORGANIZER;CN="Lodge Secretary":MAILTO:secretary@garlandlodge441.org
END:VEVENT
BEGIN:VEVENT
DTSTART;TZID=America/Chicago:20260414T190000
DTEND;TZID=America/Chicago:20260414T200000
DTSTAMP:20260423T164054
CREATED:20240624T231419Z
LAST-MODIFIED:20240624T231419Z
UID:307-1776193200-1776196800@garlandlodge441.org
SUMMARY:Stated Meeting
DESCRIPTION:Stated meetings are held on the second Tuesday of every month.
URL:https://garlandlodge441.org/event/stated-meeting-49/
LOCATION:Garland Lodge 441\, 125 E State St\, Garland\, TX\, 75040\, United States
CATEGORIES:Lodge Meeting
ORGANIZER;CN="Lodge Secretary":MAILTO:secretary@garlandlodge441.org
END:VEVENT
BEGIN:VEVENT
DTSTART;TZID=America/Chicago:20260418T110000
DTEND;TZID=America/Chicago:20260418T140000
DTSTAMP:20260423T164054
CREATED:20260307T175133Z
LAST-MODIFIED:20260307T175133Z
UID:799-1776510000-1776520800@garlandlodge441.org
SUMMARY:Fish Fry
DESCRIPTION:It’s delicious!
URL:https://garlandlodge441.org/event/fish-fry/
LOCATION:Garland Lodge 441\, 125 E State St\, Garland\, TX\, 75040\, United States
CATEGORIES:Social (Family/Friends)
ORGANIZER;CN="Lodge Secretary":MAILTO:secretary@garlandlodge441.org
END:VEVENT
BEGIN:VEVENT
DTSTART;TZID=America/Chicago:20260421T180000
DTEND;TZID=America/Chicago:20260421T190000
DTSTAMP:20260423T164054
CREATED:20260307T180401Z
LAST-MODIFIED:20260307T180401Z
UID:806-1776794400-1776798000@garlandlodge441.org
SUMMARY:Golden Trowel Award
DESCRIPTION:6pm dinner followed by ceremony
URL:https://garlandlodge441.org/event/golden-trowel-award/
LOCATION:Garland Lodge 441\, 125 E State St\, Garland\, TX\, 75040\, United States
ORGANIZER;CN="Lodge Secretary":MAILTO:secretary@garlandlodge441.org
END:VEVENT
BEGIN:VEVENT
DTSTART;TZID=America/Chicago:20260421T190000
DTEND;TZID=America/Chicago:20260421T200000
DTSTAMP:20260423T164054
CREATED:20240624T233454Z
LAST-MODIFIED:20241016T191655Z
UID:415-1776798000-1776801600@garlandlodge441.org
SUMMARY:Practice Night
DESCRIPTION:Called meetings start at 7pm on Tuesdays that are not stated meetings.
URL:https://garlandlodge441.org/event/called-meeting-73/
LOCATION:Garland Lodge 441\, 125 E State St\, Garland\, TX\, 75040\, United States
CATEGORIES:Lodge Meeting
ORGANIZER;CN="Lodge Secretary":MAILTO:secretary@garlandlodge441.org
END:VEVENT
BEGIN:VEVENT
DTSTART;VALUE=DATE:20260424
DTEND;VALUE=DATE:20260425
DTSTAMP:20260423T164054
CREATED:20260311T025946Z
LAST-MODIFIED:20260311T025946Z
UID:815-1776988800-1777075199@garlandlodge441.org
SUMMARY:Murphy Backyard BBQ
DESCRIPTION:BBQ contest\, come support us!\nTimes unknown\, but will update when available.
URL:https://garlandlodge441.org/event/murphy-backyard-bbq/
LOCATION:TX
END:VEVENT
BEGIN:VEVENT
DTSTART;TZID=America/Chicago:20260428T190000
DTEND;TZID=America/Chicago:20260428T200000
DTSTAMP:20260423T164054
CREATED:20240624T233454Z
LAST-MODIFIED:20241016T191649Z
UID:416-1777402800-1777406400@garlandlodge441.org
SUMMARY:Practice Night
DESCRIPTION:Called meetings start at 7pm on Tuesdays that are not stated meetings.
URL:https://garlandlodge441.org/event/called-meeting-74/
LOCATION:Garland Lodge 441\, 125 E State St\, Garland\, TX\, 75040\, United States
CATEGORIES:Lodge Meeting
ORGANIZER;CN="Lodge Secretary":MAILTO:secretary@garlandlodge441.org
END:VEVENT
BEGIN:VEVENT
DTSTART;VALUE=DATE:20260430
DTEND;VALUE=DATE:20260501
DTSTAMP:20260423T164054
CREATED:20260311T030224Z
LAST-MODIFIED:20260311T030224Z
UID:817-1777507200-1777593599@garlandlodge441.org
SUMMARY:5 Loaves Party on the Patio
DESCRIPTION:Ferrah’s Tex-Med Kitchen\nTimes unknown\, but will update when available!
URL:https://garlandlodge441.org/event/5-loaves-party-on-the-patio/
LOCATION:Ferrah’s Tex-Med\, 690 Beebalm Lane\, Garland\, TX\, 75040\, United States
END:VEVENT
BEGIN:VEVENT
DTSTART;TZID=America/Chicago:20260505T190000
DTEND;TZID=America/Chicago:20260505T200000
DTSTAMP:20260423T164054
CREATED:20240624T233454Z
LAST-MODIFIED:20241016T191640Z
UID:417-1778007600-1778011200@garlandlodge441.org
SUMMARY:Practice Night
DESCRIPTION:Called meetings start at 7pm on Tuesdays that are not stated meetings.
URL:https://garlandlodge441.org/event/called-meeting-75/
LOCATION:Garland Lodge 441\, 125 E State St\, Garland\, TX\, 75040\, United States
CATEGORIES:Lodge Meeting
ORGANIZER;CN="Lodge Secretary":MAILTO:secretary@garlandlodge441.org
END:VEVENT
BEGIN:VEVENT
DTSTART;TZID=America/Chicago:20260512T180000
DTEND;TZID=America/Chicago:20260512T190000
DTSTAMP:20260423T164054
CREATED:20240624T231523Z
LAST-MODIFIED:20240624T231523Z
UID:333-1778608800-1778612400@garlandlodge441.org
SUMMARY:Fellowship Dinner
DESCRIPTION:Fellowship dinners are held starting at 6pm every Tuesday.
URL:https://garlandlodge441.org/event/fellowship-dinner-50/
LOCATION:Garland Lodge 441\, 125 E State St\, Garland\, TX\, 75040\, United States
CATEGORIES:Fellowship Dinner
ORGANIZER;CN="Lodge Secretary":MAILTO:secretary@garlandlodge441.org
END:VEVENT
BEGIN:VEVENT
DTSTART;TZID=America/Chicago:20260512T190000
DTEND;TZID=America/Chicago:20260512T200000
DTSTAMP:20260423T164054
CREATED:20240624T231419Z
LAST-MODIFIED:20240624T231419Z
UID:308-1778612400-1778616000@garlandlodge441.org
SUMMARY:Stated Meeting
DESCRIPTION:Stated meetings are held on the second Tuesday of every month.
URL:https://garlandlodge441.org/event/stated-meeting-50/
LOCATION:Garland Lodge 441\, 125 E State St\, Garland\, TX\, 75040\, United States
CATEGORIES:Lodge Meeting
ORGANIZER;CN="Lodge Secretary":MAILTO:secretary@garlandlodge441.org
END:VEVENT
BEGIN:VEVENT
DTSTART;TZID=America/Chicago:20260519T180000
DTEND;TZID=America/Chicago:20260519T190000
DTSTAMP:20260423T164054
CREATED:20260307T175841Z
LAST-MODIFIED:20260311T030424Z
UID:804-1779213600-1779217200@garlandlodge441.org
SUMMARY:Festive Board w/ East Fork Lodge
DESCRIPTION:Expected $50/head\nTickets to be available soon!
URL:https://garlandlodge441.org/event/festive-board-w-east-fork-lodge/
LOCATION:Garland Lodge 441\, 125 E State St\, Garland\, TX\, 75040\, United States
ORGANIZER;CN="Lodge Secretary":MAILTO:secretary@garlandlodge441.org
END:VEVENT
BEGIN:VEVENT
DTSTART;TZID=America/Chicago:20260519T190000
DTEND;TZID=America/Chicago:20260519T200000
DTSTAMP:20260423T164054
CREATED:20240624T233655Z
LAST-MODIFIED:20241016T191633Z
UID:418-1779217200-1779220800@garlandlodge441.org
SUMMARY:Practice Night
DESCRIPTION:Called meetings start at 7pm on Tuesdays that are not stated meetings.
URL:https://garlandlodge441.org/event/called-meeting-76/
LOCATION:Garland Lodge 441\, 125 E State St\, Garland\, TX\, 75040\, United States
CATEGORIES:Lodge Meeting
ORGANIZER;CN="Lodge Secretary":MAILTO:secretary@garlandlodge441.org
END:VEVENT
BEGIN:VEVENT
DTSTART;TZID=America/Chicago:20260526T190000
DTEND;TZID=America/Chicago:20260526T200000
DTSTAMP:20260423T164054
CREATED:20240624T233655Z
LAST-MODIFIED:20241016T191627Z
UID:419-1779822000-1779825600@garlandlodge441.org
SUMMARY:Practice Night
DESCRIPTION:Called meetings start at 7pm on Tuesdays that are not stated meetings.
URL:https://garlandlodge441.org/event/called-meeting-77/
LOCATION:Garland Lodge 441\, 125 E State St\, Garland\, TX\, 75040\, United States
CATEGORIES:Lodge Meeting
ORGANIZER;CN="Lodge Secretary":MAILTO:secretary@garlandlodge441.org
END:VEVENT
BEGIN:VEVENT
DTSTART;TZID=America/Chicago:20260602T190000
DTEND;TZID=America/Chicago:20260602T200000
DTSTAMP:20260423T164054
CREATED:20240624T233655Z
LAST-MODIFIED:20241016T191620Z
UID:420-1780426800-1780430400@garlandlodge441.org
SUMMARY:Practice Night
DESCRIPTION:Called meetings start at 7pm on Tuesdays that are not stated meetings.
URL:https://garlandlodge441.org/event/called-meeting-78/
LOCATION:Garland Lodge 441\, 125 E State St\, Garland\, TX\, 75040\, United States
CATEGORIES:Lodge Meeting
ORGANIZER;CN="Lodge Secretary":MAILTO:secretary@garlandlodge441.org
END:VEVENT
BEGIN:VEVENT
DTSTART;TZID=America/Chicago:20260609T180000
DTEND;TZID=America/Chicago:20260609T190000
DTSTAMP:20260423T164054
CREATED:20240624T231523Z
LAST-MODIFIED:20240624T231523Z
UID:334-1781028000-1781031600@garlandlodge441.org
SUMMARY:Fellowship Dinner
DESCRIPTION:Fellowship dinners are held starting at 6pm every Tuesday.
URL:https://garlandlodge441.org/event/fellowship-dinner-51/
LOCATION:Garland Lodge 441\, 125 E State St\, Garland\, TX\, 75040\, United States
CATEGORIES:Fellowship Dinner
ORGANIZER;CN="Lodge Secretary":MAILTO:secretary@garlandlodge441.org
END:VEVENT
BEGIN:VEVENT
DTSTART;TZID=America/Chicago:20260609T190000
DTEND;TZID=America/Chicago:20260609T200000
DTSTAMP:20260423T164054
CREATED:20240624T231419Z
LAST-MODIFIED:20240624T231419Z
UID:309-1781031600-1781035200@garlandlodge441.org
SUMMARY:Stated Meeting
DESCRIPTION:Stated meetings are held on the second Tuesday of every month.
URL:https://garlandlodge441.org/event/stated-meeting-51/
LOCATION:Garland Lodge 441\, 125 E State St\, Garland\, TX\, 75040\, United States
CATEGORIES:Lodge Meeting
ORGANIZER;CN="Lodge Secretary":MAILTO:secretary@garlandlodge441.org
END:VEVENT
BEGIN:VEVENT
DTSTART;TZID=America/Chicago:20260616T190000
DTEND;TZID=America/Chicago:20260616T200000
DTSTAMP:20260423T164054
CREATED:20240624T233655Z
LAST-MODIFIED:20241016T191613Z
UID:421-1781636400-1781640000@garlandlodge441.org
SUMMARY:Practice Night
DESCRIPTION:Called meetings start at 7pm on Tuesdays that are not stated meetings.
URL:https://garlandlodge441.org/event/called-meeting-79/
LOCATION:Garland Lodge 441\, 125 E State St\, Garland\, TX\, 75040\, United States
CATEGORIES:Lodge Meeting
ORGANIZER;CN="Lodge Secretary":MAILTO:secretary@garlandlodge441.org
END:VEVENT
BEGIN:VEVENT
DTSTART;TZID=America/Chicago:20260623T190000
DTEND;TZID=America/Chicago:20260623T200000
DTSTAMP:20260423T164054
CREATED:20240624T233655Z
LAST-MODIFIED:20241016T191605Z
UID:422-1782241200-1782244800@garlandlodge441.org
SUMMARY:Practice Night
DESCRIPTION:Called meetings start at 7pm on Tuesdays that are not stated meetings.
URL:https://garlandlodge441.org/event/called-meeting-80/
LOCATION:Garland Lodge 441\, 125 E State St\, Garland\, TX\, 75040\, United States
CATEGORIES:Lodge Meeting
ORGANIZER;CN="Lodge Secretary":MAILTO:secretary@garlandlodge441.org
END:VEVENT
BEGIN:VEVENT
DTSTART;TZID=America/Chicago:20260630T190000
DTEND;TZID=America/Chicago:20260630T200000
DTSTAMP:20260423T164054
CREATED:20240624T233856Z
LAST-MODIFIED:20241016T191558Z
UID:423-1782846000-1782849600@garlandlodge441.org
SUMMARY:Practice Night
DESCRIPTION:Called meetings start at 7pm on Tuesdays that are not stated meetings.
URL:https://garlandlodge441.org/event/called-meeting-81/
LOCATION:Garland Lodge 441\, 125 E State St\, Garland\, TX\, 75040\, United States
CATEGORIES:Lodge Meeting
ORGANIZER;CN="Lodge Secretary":MAILTO:secretary@garlandlodge441.org
END:VEVENT
BEGIN:VEVENT
DTSTART;TZID=America/Chicago:20260714T180000
DTEND;TZID=America/Chicago:20260714T190000
DTSTAMP:20260423T164054
CREATED:20240624T231523Z
LAST-MODIFIED:20240624T231523Z
UID:335-1784052000-1784055600@garlandlodge441.org
SUMMARY:Fellowship Dinner
DESCRIPTION:Fellowship dinners are held starting at 6pm every Tuesday.
URL:https://garlandlodge441.org/event/fellowship-dinner-52/
LOCATION:Garland Lodge 441\, 125 E State St\, Garland\, TX\, 75040\, United States
CATEGORIES:Fellowship Dinner
ORGANIZER;CN="Lodge Secretary":MAILTO:secretary@garlandlodge441.org
END:VEVENT
BEGIN:VEVENT
DTSTART;TZID=America/Chicago:20260714T190000
DTEND;TZID=America/Chicago:20260714T200000
DTSTAMP:20260423T164054
CREATED:20240624T231419Z
LAST-MODIFIED:20240624T231419Z
UID:310-1784055600-1784059200@garlandlodge441.org
SUMMARY:Stated Meeting
DESCRIPTION:Stated meetings are held on the second Tuesday of every month.
URL:https://garlandlodge441.org/event/stated-meeting-52/
LOCATION:Garland Lodge 441\, 125 E State St\, Garland\, TX\, 75040\, United States
CATEGORIES:Lodge Meeting
ORGANIZER;CN="Lodge Secretary":MAILTO:secretary@garlandlodge441.org
END:VEVENT
END:VCALENDAR