BEGIN:VCALENDAR
VERSION:2.0
PRODID:-//Garland Masonic Lodge 441 - ECPv6.15.20//NONSGML v1.0//EN
CALSCALE:GREGORIAN
METHOD:PUBLISH
X-WR-CALNAME:Garland Masonic Lodge 441
X-ORIGINAL-URL:https://garlandlodge441.org
X-WR-CALDESC:Events for Garland Masonic Lodge 441
REFRESH-INTERVAL;VALUE=DURATION:PT1H
X-Robots-Tag:noindex
X-PUBLISHED-TTL:PT1H
BEGIN:VTIMEZONE
TZID:America/Chicago
BEGIN:DAYLIGHT
TZOFFSETFROM:-0600
TZOFFSETTO:-0500
TZNAME:CDT
DTSTART:20240310T080000
END:DAYLIGHT
BEGIN:STANDARD
TZOFFSETFROM:-0500
TZOFFSETTO:-0600
TZNAME:CST
DTSTART:20241103T070000
END:STANDARD
BEGIN:DAYLIGHT
TZOFFSETFROM:-0600
TZOFFSETTO:-0500
TZNAME:CDT
DTSTART:20250309T080000
END:DAYLIGHT
BEGIN:STANDARD
TZOFFSETFROM:-0500
TZOFFSETTO:-0600
TZNAME:CST
DTSTART:20251102T070000
END:STANDARD
BEGIN:DAYLIGHT
TZOFFSETFROM:-0600
TZOFFSETTO:-0500
TZNAME:CDT
DTSTART:20260308T080000
END:DAYLIGHT
BEGIN:STANDARD
TZOFFSETFROM:-0500
TZOFFSETTO:-0600
TZNAME:CST
DTSTART:20261101T070000
END:STANDARD
END:VTIMEZONE
BEGIN:VEVENT
DTSTART;TZID=America/Chicago:20250812T190000
DTEND;TZID=America/Chicago:20250812T200000
DTSTAMP:20260423T185406
CREATED:20240624T231349Z
LAST-MODIFIED:20240624T231349Z
UID:299-1755025200-1755028800@garlandlodge441.org
SUMMARY:Stated Meeting
DESCRIPTION:Stated meetings are held on the second Tuesday of every month.
URL:https://garlandlodge441.org/event/stated-meeting-41/
LOCATION:Garland Lodge 441\, 125 E State St\, Garland\, TX\, 75040\, United States
CATEGORIES:Lodge Meeting
ORGANIZER;CN="Lodge Secretary":MAILTO:secretary@garlandlodge441.org
END:VEVENT
BEGIN:VEVENT
DTSTART;TZID=America/Chicago:20250812T180000
DTEND;TZID=America/Chicago:20250812T190000
DTSTAMP:20260423T185406
CREATED:20240624T231504Z
LAST-MODIFIED:20240624T231504Z
UID:324-1755021600-1755025200@garlandlodge441.org
SUMMARY:Fellowship Dinner
DESCRIPTION:Fellowship dinners are held starting at 6pm every Tuesday.
URL:https://garlandlodge441.org/event/fellowship-dinner-41/
LOCATION:Garland Lodge 441\, 125 E State St\, Garland\, TX\, 75040\, United States
CATEGORIES:Fellowship Dinner
ORGANIZER;CN="Lodge Secretary":MAILTO:secretary@garlandlodge441.org
END:VEVENT
BEGIN:VEVENT
DTSTART;TZID=America/Chicago:20250805T190000
DTEND;TZID=America/Chicago:20250805T200000
DTSTAMP:20260423T185406
CREATED:20240624T232821Z
LAST-MODIFIED:20241016T192042Z
UID:386-1754420400-1754424000@garlandlodge441.org
SUMMARY:Practice Night
DESCRIPTION:Called meetings start at 7pm on Tuesdays that are not stated meetings.
URL:https://garlandlodge441.org/event/called-meeting-45/
LOCATION:Garland Lodge 441\, 125 E State St\, Garland\, TX\, 75040\, United States
CATEGORIES:Lodge Meeting
ORGANIZER;CN="Lodge Secretary":MAILTO:secretary@garlandlodge441.org
END:VEVENT
BEGIN:VEVENT
DTSTART;TZID=America/Chicago:20250805T180000
DTEND;TZID=America/Chicago:20250805T190000
DTSTAMP:20260423T185406
CREATED:20240522T023854Z
LAST-MODIFIED:20240625T143657Z
UID:182-1754416800-1754420400@garlandlodge441.org
SUMMARY:Fellowship Dinner
DESCRIPTION:Fellowship dinners are held starting at 6pm every Tuesday.
URL:https://garlandlodge441.org/event/fellowship-dinner-16/
LOCATION:Garland Lodge 441\, 125 E State St\, Garland\, TX\, 75040\, United States
CATEGORIES:Fellowship Dinner
ORGANIZER;CN="Lodge Secretary":MAILTO:secretary@garlandlodge441.org
END:VEVENT
BEGIN:VEVENT
DTSTART;TZID=America/Chicago:20250729T190000
DTEND;TZID=America/Chicago:20250729T200000
DTSTAMP:20260423T185406
CREATED:20240624T232821Z
LAST-MODIFIED:20241016T192048Z
UID:385-1753815600-1753819200@garlandlodge441.org
SUMMARY:Practice Night
DESCRIPTION:Called meetings start at 7pm on Tuesdays that are not stated meetings.
URL:https://garlandlodge441.org/event/called-meeting-44/
LOCATION:Garland Lodge 441\, 125 E State St\, Garland\, TX\, 75040\, United States
CATEGORIES:Lodge Meeting
ORGANIZER;CN="Lodge Secretary":MAILTO:secretary@garlandlodge441.org
END:VEVENT
BEGIN:VEVENT
DTSTART;TZID=America/Chicago:20250729T180000
DTEND;TZID=America/Chicago:20250729T190000
DTSTAMP:20260423T185406
CREATED:20240625T002409Z
LAST-MODIFIED:20240625T143550Z
UID:472-1753812000-1753815600@garlandlodge441.org
SUMMARY:Fellowship Dinner
DESCRIPTION:Fellowship dinners are held starting at 6pm every Tuesday.
URL:https://garlandlodge441.org/event/fellowship-dinner-83/
LOCATION:Garland Lodge 441\, 125 E State St\, Garland\, TX\, 75040\, United States
CATEGORIES:Fellowship Dinner
ORGANIZER;CN="Lodge Secretary":MAILTO:secretary@garlandlodge441.org
END:VEVENT
BEGIN:VEVENT
DTSTART;TZID=America/Chicago:20250722T190000
DTEND;TZID=America/Chicago:20250722T200000
DTSTAMP:20260423T185406
CREATED:20240624T232821Z
LAST-MODIFIED:20241016T192054Z
UID:384-1753210800-1753214400@garlandlodge441.org
SUMMARY:Practice Night
DESCRIPTION:Called meetings start at 7pm on Tuesdays that are not stated meetings.
URL:https://garlandlodge441.org/event/called-meeting-43/
LOCATION:Garland Lodge 441\, 125 E State St\, Garland\, TX\, 75040\, United States
CATEGORIES:Lodge Meeting
ORGANIZER;CN="Lodge Secretary":MAILTO:secretary@garlandlodge441.org
END:VEVENT
BEGIN:VEVENT
DTSTART;TZID=America/Chicago:20250722T180000
DTEND;TZID=America/Chicago:20250722T190000
DTSTAMP:20260423T185406
CREATED:20240625T002409Z
LAST-MODIFIED:20240625T143555Z
UID:471-1753207200-1753210800@garlandlodge441.org
SUMMARY:Fellowship Dinner
DESCRIPTION:Fellowship dinners are held starting at 6pm every Tuesday.
URL:https://garlandlodge441.org/event/fellowship-dinner-82/
LOCATION:Garland Lodge 441\, 125 E State St\, Garland\, TX\, 75040\, United States
CATEGORIES:Fellowship Dinner
ORGANIZER;CN="Lodge Secretary":MAILTO:secretary@garlandlodge441.org
END:VEVENT
BEGIN:VEVENT
DTSTART;TZID=America/Chicago:20250715T190000
DTEND;TZID=America/Chicago:20250715T200000
DTSTAMP:20260423T185406
CREATED:20240624T232821Z
LAST-MODIFIED:20241016T192101Z
UID:383-1752606000-1752609600@garlandlodge441.org
SUMMARY:Practice Night
DESCRIPTION:Called meetings start at 7pm on Tuesdays that are not stated meetings.
URL:https://garlandlodge441.org/event/called-meeting-42/
LOCATION:Garland Lodge 441\, 125 E State St\, Garland\, TX\, 75040\, United States
CATEGORIES:Lodge Meeting
ORGANIZER;CN="Lodge Secretary":MAILTO:secretary@garlandlodge441.org
END:VEVENT
BEGIN:VEVENT
DTSTART;TZID=America/Chicago:20250715T180000
DTEND;TZID=America/Chicago:20250715T190000
DTSTAMP:20260423T185406
CREATED:20240625T002409Z
LAST-MODIFIED:20240625T143703Z
UID:470-1752602400-1752606000@garlandlodge441.org
SUMMARY:Fellowship Dinner
DESCRIPTION:Fellowship dinners are held starting at 6pm every Tuesday.
URL:https://garlandlodge441.org/event/fellowship-dinner-81/
LOCATION:Garland Lodge 441\, 125 E State St\, Garland\, TX\, 75040\, United States
CATEGORIES:Fellowship Dinner
ORGANIZER;CN="Lodge Secretary":MAILTO:secretary@garlandlodge441.org
END:VEVENT
BEGIN:VEVENT
DTSTART;TZID=America/Chicago:20250708T190000
DTEND;TZID=America/Chicago:20250708T200000
DTSTAMP:20260423T185406
CREATED:20240624T231349Z
LAST-MODIFIED:20240624T231349Z
UID:298-1752001200-1752004800@garlandlodge441.org
SUMMARY:Stated Meeting
DESCRIPTION:Stated meetings are held on the second Tuesday of every month.
URL:https://garlandlodge441.org/event/stated-meeting-40/
LOCATION:Garland Lodge 441\, 125 E State St\, Garland\, TX\, 75040\, United States
CATEGORIES:Lodge Meeting
ORGANIZER;CN="Lodge Secretary":MAILTO:secretary@garlandlodge441.org
END:VEVENT
BEGIN:VEVENT
DTSTART;TZID=America/Chicago:20250708T180000
DTEND;TZID=America/Chicago:20250708T190000
DTSTAMP:20260423T185406
CREATED:20240624T231504Z
LAST-MODIFIED:20240624T231504Z
UID:323-1751997600-1752001200@garlandlodge441.org
SUMMARY:Fellowship Dinner
DESCRIPTION:Fellowship dinners are held starting at 6pm every Tuesday.
URL:https://garlandlodge441.org/event/fellowship-dinner-40/
LOCATION:Garland Lodge 441\, 125 E State St\, Garland\, TX\, 75040\, United States
CATEGORIES:Fellowship Dinner
ORGANIZER;CN="Lodge Secretary":MAILTO:secretary@garlandlodge441.org
END:VEVENT
BEGIN:VEVENT
DTSTART;TZID=America/Chicago:20250701T190000
DTEND;TZID=America/Chicago:20250701T200000
DTSTAMP:20260423T185406
CREATED:20240624T232820Z
LAST-MODIFIED:20241016T192111Z
UID:382-1751396400-1751400000@garlandlodge441.org
SUMMARY:Practice Night
DESCRIPTION:Called meetings start at 7pm on Tuesdays that are not stated meetings.
URL:https://garlandlodge441.org/event/called-meeting-41/
LOCATION:Garland Lodge 441\, 125 E State St\, Garland\, TX\, 75040\, United States
CATEGORIES:Lodge Meeting
ORGANIZER;CN="Lodge Secretary":MAILTO:secretary@garlandlodge441.org
END:VEVENT
BEGIN:VEVENT
DTSTART;TZID=America/Chicago:20250701T180000
DTEND;TZID=America/Chicago:20250701T190000
DTSTAMP:20260423T185406
CREATED:20240522T023839Z
LAST-MODIFIED:20240625T143709Z
UID:180-1751392800-1751396400@garlandlodge441.org
SUMMARY:Fellowship Dinner
DESCRIPTION:Fellowship dinners are held starting at 6pm every Tuesday.
URL:https://garlandlodge441.org/event/fellowship-dinner-15/
LOCATION:Garland Lodge 441\, 125 E State St\, Garland\, TX\, 75040\, United States
CATEGORIES:Fellowship Dinner
ORGANIZER;CN="Lodge Secretary":MAILTO:secretary@garlandlodge441.org
END:VEVENT
BEGIN:VEVENT
DTSTART;TZID=America/Chicago:20250624T190000
DTEND;TZID=America/Chicago:20250624T200000
DTSTAMP:20260423T185406
CREATED:20240624T232806Z
LAST-MODIFIED:20241016T192118Z
UID:381-1750791600-1750795200@garlandlodge441.org
SUMMARY:Practice Night
DESCRIPTION:Called meetings start at 7pm on Tuesdays that are not stated meetings.
URL:https://garlandlodge441.org/event/called-meeting-40/
LOCATION:Garland Lodge 441\, 125 E State St\, Garland\, TX\, 75040\, United States
CATEGORIES:Lodge Meeting
ORGANIZER;CN="Lodge Secretary":MAILTO:secretary@garlandlodge441.org
END:VEVENT
BEGIN:VEVENT
DTSTART;TZID=America/Chicago:20250624T180000
DTEND;TZID=America/Chicago:20250624T190000
DTSTAMP:20260423T185406
CREATED:20240625T002409Z
LAST-MODIFIED:20240625T143714Z
UID:468-1750788000-1750791600@garlandlodge441.org
SUMMARY:Fellowship Dinner
DESCRIPTION:Fellowship dinners are held starting at 6pm every Tuesday.
URL:https://garlandlodge441.org/event/fellowship-dinner-80/
LOCATION:Garland Lodge 441\, 125 E State St\, Garland\, TX\, 75040\, United States
CATEGORIES:Fellowship Dinner
ORGANIZER;CN="Lodge Secretary":MAILTO:secretary@garlandlodge441.org
END:VEVENT
BEGIN:VEVENT
DTSTART;TZID=America/Chicago:20250617T190000
DTEND;TZID=America/Chicago:20250617T200000
DTSTAMP:20260423T185406
CREATED:20240624T232806Z
LAST-MODIFIED:20241016T192125Z
UID:380-1750186800-1750190400@garlandlodge441.org
SUMMARY:Practice Night
DESCRIPTION:Called meetings start at 7pm on Tuesdays that are not stated meetings.
URL:https://garlandlodge441.org/event/called-meeting-39/
LOCATION:Garland Lodge 441\, 125 E State St\, Garland\, TX\, 75040\, United States
CATEGORIES:Lodge Meeting
ORGANIZER;CN="Lodge Secretary":MAILTO:secretary@garlandlodge441.org
END:VEVENT
BEGIN:VEVENT
DTSTART;TZID=America/Chicago:20250617T180000
DTEND;TZID=America/Chicago:20250617T190000
DTSTAMP:20260423T185406
CREATED:20240625T002401Z
LAST-MODIFIED:20240625T143720Z
UID:467-1750183200-1750186800@garlandlodge441.org
SUMMARY:Fellowship Dinner
DESCRIPTION:Fellowship dinners are held starting at 6pm every Tuesday.
URL:https://garlandlodge441.org/event/fellowship-dinner-79/
LOCATION:Garland Lodge 441\, 125 E State St\, Garland\, TX\, 75040\, United States
CATEGORIES:Fellowship Dinner
ORGANIZER;CN="Lodge Secretary":MAILTO:secretary@garlandlodge441.org
END:VEVENT
BEGIN:VEVENT
DTSTART;TZID=America/Chicago:20250610T190000
DTEND;TZID=America/Chicago:20250610T200000
DTSTAMP:20260423T185406
CREATED:20240624T231349Z
LAST-MODIFIED:20240624T231349Z
UID:297-1749582000-1749585600@garlandlodge441.org
SUMMARY:Stated Meeting
DESCRIPTION:Stated meetings are held on the second Tuesday of every month.
URL:https://garlandlodge441.org/event/stated-meeting-39/
LOCATION:Garland Lodge 441\, 125 E State St\, Garland\, TX\, 75040\, United States
CATEGORIES:Lodge Meeting
ORGANIZER;CN="Lodge Secretary":MAILTO:secretary@garlandlodge441.org
END:VEVENT
BEGIN:VEVENT
DTSTART;TZID=America/Chicago:20250610T180000
DTEND;TZID=America/Chicago:20250610T190000
DTSTAMP:20260423T185406
CREATED:20240624T231504Z
LAST-MODIFIED:20240624T231504Z
UID:322-1749578400-1749582000@garlandlodge441.org
SUMMARY:Fellowship Dinner
DESCRIPTION:Fellowship dinners are held starting at 6pm every Tuesday.
URL:https://garlandlodge441.org/event/fellowship-dinner-39/
LOCATION:Garland Lodge 441\, 125 E State St\, Garland\, TX\, 75040\, United States
CATEGORIES:Fellowship Dinner
ORGANIZER;CN="Lodge Secretary":MAILTO:secretary@garlandlodge441.org
END:VEVENT
BEGIN:VEVENT
DTSTART;TZID=America/Chicago:20250603T190000
DTEND;TZID=America/Chicago:20250603T200000
DTSTAMP:20260423T185406
CREATED:20240624T232806Z
LAST-MODIFIED:20241016T192133Z
UID:379-1748977200-1748980800@garlandlodge441.org
SUMMARY:Practice Night
DESCRIPTION:Called meetings start at 7pm on Tuesdays that are not stated meetings.
URL:https://garlandlodge441.org/event/called-meeting-38/
LOCATION:Garland Lodge 441\, 125 E State St\, Garland\, TX\, 75040\, United States
CATEGORIES:Lodge Meeting
ORGANIZER;CN="Lodge Secretary":MAILTO:secretary@garlandlodge441.org
END:VEVENT
BEGIN:VEVENT
DTSTART;TZID=America/Chicago:20250603T180000
DTEND;TZID=America/Chicago:20250603T190000
DTSTAMP:20260423T185406
CREATED:20240522T023839Z
LAST-MODIFIED:20240625T143725Z
UID:178-1748973600-1748977200@garlandlodge441.org
SUMMARY:Fellowship Dinner
DESCRIPTION:Fellowship dinners are held starting at 6pm every Tuesday.
URL:https://garlandlodge441.org/event/fellowship-dinner-14/
LOCATION:Garland Lodge 441\, 125 E State St\, Garland\, TX\, 75040\, United States
CATEGORIES:Fellowship Dinner
ORGANIZER;CN="Lodge Secretary":MAILTO:secretary@garlandlodge441.org
END:VEVENT
BEGIN:VEVENT
DTSTART;TZID=America/Chicago:20250527T190000
DTEND;TZID=America/Chicago:20250527T200000
DTSTAMP:20260423T185406
CREATED:20240624T232806Z
LAST-MODIFIED:20241016T192140Z
UID:378-1748372400-1748376000@garlandlodge441.org
SUMMARY:Practice Night
DESCRIPTION:Called meetings start at 7pm on Tuesdays that are not stated meetings.
URL:https://garlandlodge441.org/event/called-meeting-37/
LOCATION:Garland Lodge 441\, 125 E State St\, Garland\, TX\, 75040\, United States
CATEGORIES:Lodge Meeting
ORGANIZER;CN="Lodge Secretary":MAILTO:secretary@garlandlodge441.org
END:VEVENT
BEGIN:VEVENT
DTSTART;TZID=America/Chicago:20250527T180000
DTEND;TZID=America/Chicago:20250527T190000
DTSTAMP:20260423T185406
CREATED:20240625T002401Z
LAST-MODIFIED:20240625T143729Z
UID:465-1748368800-1748372400@garlandlodge441.org
SUMMARY:Fellowship Dinner
DESCRIPTION:Fellowship dinners are held starting at 6pm every Tuesday.
URL:https://garlandlodge441.org/event/fellowship-dinner-78/
LOCATION:Garland Lodge 441\, 125 E State St\, Garland\, TX\, 75040\, United States
CATEGORIES:Fellowship Dinner
ORGANIZER;CN="Lodge Secretary":MAILTO:secretary@garlandlodge441.org
END:VEVENT
BEGIN:VEVENT
DTSTART;TZID=America/Chicago:20250520T190000
DTEND;TZID=America/Chicago:20250520T200000
DTSTAMP:20260423T185406
CREATED:20240624T232806Z
LAST-MODIFIED:20241016T192146Z
UID:377-1747767600-1747771200@garlandlodge441.org
SUMMARY:Practice Night
DESCRIPTION:Called meetings start at 7pm on Tuesdays that are not stated meetings.
URL:https://garlandlodge441.org/event/called-meeting-36/
LOCATION:Garland Lodge 441\, 125 E State St\, Garland\, TX\, 75040\, United States
CATEGORIES:Lodge Meeting
ORGANIZER;CN="Lodge Secretary":MAILTO:secretary@garlandlodge441.org
END:VEVENT
BEGIN:VEVENT
DTSTART;TZID=America/Chicago:20250520T180000
DTEND;TZID=America/Chicago:20250520T190000
DTSTAMP:20260423T185406
CREATED:20240625T002401Z
LAST-MODIFIED:20240625T143735Z
UID:464-1747764000-1747767600@garlandlodge441.org
SUMMARY:Fellowship Dinner
DESCRIPTION:Fellowship dinners are held starting at 6pm every Tuesday.
URL:https://garlandlodge441.org/event/fellowship-dinner-77/
LOCATION:Garland Lodge 441\, 125 E State St\, Garland\, TX\, 75040\, United States
CATEGORIES:Fellowship Dinner
ORGANIZER;CN="Lodge Secretary":MAILTO:secretary@garlandlodge441.org
END:VEVENT
BEGIN:VEVENT
DTSTART;TZID=America/Chicago:20250513T190000
DTEND;TZID=America/Chicago:20250513T200000
DTSTAMP:20260423T185406
CREATED:20240624T231348Z
LAST-MODIFIED:20240624T231348Z
UID:296-1747162800-1747166400@garlandlodge441.org
SUMMARY:Stated Meeting
DESCRIPTION:Stated meetings are held on the second Tuesday of every month.
URL:https://garlandlodge441.org/event/stated-meeting-38/
LOCATION:Garland Lodge 441\, 125 E State St\, Garland\, TX\, 75040\, United States
CATEGORIES:Lodge Meeting
ORGANIZER;CN="Lodge Secretary":MAILTO:secretary@garlandlodge441.org
END:VEVENT
BEGIN:VEVENT
DTSTART;TZID=America/Chicago:20250513T180000
DTEND;TZID=America/Chicago:20250513T190000
DTSTAMP:20260423T185406
CREATED:20240624T231504Z
LAST-MODIFIED:20240624T231504Z
UID:321-1747159200-1747162800@garlandlodge441.org
SUMMARY:Fellowship Dinner
DESCRIPTION:Fellowship dinners are held starting at 6pm every Tuesday.
URL:https://garlandlodge441.org/event/fellowship-dinner-38/
LOCATION:Garland Lodge 441\, 125 E State St\, Garland\, TX\, 75040\, United States
CATEGORIES:Fellowship Dinner
ORGANIZER;CN="Lodge Secretary":MAILTO:secretary@garlandlodge441.org
END:VEVENT
BEGIN:VEVENT
DTSTART;TZID=America/Chicago:20250510T170000
DTEND;TZID=America/Chicago:20250510T200000
DTSTAMP:20260423T185406
CREATED:20250212T203621Z
LAST-MODIFIED:20250225T144326Z
UID:660-1746896400-1746907200@garlandlodge441.org
SUMMARY:150th Anniversary Dinner
DESCRIPTION:150th anniversary dinner\nMay 10th 5:00 PM – 8:00 PM
URL:https://garlandlodge441.org/event/150th-anniversary-dinner/
LOCATION:Garland Lodge 441\, 125 E State St\, Garland\, TX\, 75040\, United States
ORGANIZER;CN="Lodge Secretary":MAILTO:secretary@garlandlodge441.org
END:VEVENT
BEGIN:VEVENT
DTSTART;TZID=America/Chicago:20250506T190000
DTEND;TZID=America/Chicago:20250506T200000
DTSTAMP:20260423T185406
CREATED:20240624T232751Z
LAST-MODIFIED:20241016T192153Z
UID:376-1746558000-1746561600@garlandlodge441.org
SUMMARY:Practice Night
DESCRIPTION:Called meetings start at 7pm on Tuesdays that are not stated meetings.
URL:https://garlandlodge441.org/event/called-meeting-35/
LOCATION:Garland Lodge 441\, 125 E State St\, Garland\, TX\, 75040\, United States
CATEGORIES:Lodge Meeting
ORGANIZER;CN="Lodge Secretary":MAILTO:secretary@garlandlodge441.org
END:VEVENT
END:VCALENDAR