BEGIN:VCALENDAR
VERSION:2.0
PRODID:-//Garland Masonic Lodge 441 - ECPv6.15.20//NONSGML v1.0//EN
CALSCALE:GREGORIAN
METHOD:PUBLISH
X-WR-CALNAME:Garland Masonic Lodge 441
X-ORIGINAL-URL:https://garlandlodge441.org
X-WR-CALDESC:Events for Garland Masonic Lodge 441
REFRESH-INTERVAL;VALUE=DURATION:PT1H
X-Robots-Tag:noindex
X-PUBLISHED-TTL:PT1H
BEGIN:VTIMEZONE
TZID:America/Chicago
BEGIN:DAYLIGHT
TZOFFSETFROM:-0600
TZOFFSETTO:-0500
TZNAME:CDT
DTSTART:20240310T080000
END:DAYLIGHT
BEGIN:STANDARD
TZOFFSETFROM:-0500
TZOFFSETTO:-0600
TZNAME:CST
DTSTART:20241103T070000
END:STANDARD
BEGIN:DAYLIGHT
TZOFFSETFROM:-0600
TZOFFSETTO:-0500
TZNAME:CDT
DTSTART:20250309T080000
END:DAYLIGHT
BEGIN:STANDARD
TZOFFSETFROM:-0500
TZOFFSETTO:-0600
TZNAME:CST
DTSTART:20251102T070000
END:STANDARD
BEGIN:DAYLIGHT
TZOFFSETFROM:-0600
TZOFFSETTO:-0500
TZNAME:CDT
DTSTART:20260308T080000
END:DAYLIGHT
BEGIN:STANDARD
TZOFFSETFROM:-0500
TZOFFSETTO:-0600
TZNAME:CST
DTSTART:20261101T070000
END:STANDARD
END:VTIMEZONE
BEGIN:VEVENT
DTSTART;TZID=America/Chicago:20251202T190000
DTEND;TZID=America/Chicago:20251202T200000
DTSTAMP:20260423T135346
CREATED:20240624T233052Z
LAST-MODIFIED:20241016T191916Z
UID:399-1764702000-1764705600@garlandlodge441.org
SUMMARY:Practice Night
DESCRIPTION:Called meetings start at 7pm on Tuesdays that are not stated meetings.
URL:https://garlandlodge441.org/event/called-meeting-58/
LOCATION:Garland Lodge 441\, 125 E State St\, Garland\, TX\, 75040\, United States
CATEGORIES:Lodge Meeting
ORGANIZER;CN="Lodge Secretary":MAILTO:secretary@garlandlodge441.org
END:VEVENT
BEGIN:VEVENT
DTSTART;TZID=America/Chicago:20251209T180000
DTEND;TZID=America/Chicago:20251209T190000
DTSTAMP:20260423T135346
CREATED:20240624T231519Z
LAST-MODIFIED:20240624T231519Z
UID:328-1765303200-1765306800@garlandlodge441.org
SUMMARY:Fellowship Dinner
DESCRIPTION:Fellowship dinners are held starting at 6pm every Tuesday.
URL:https://garlandlodge441.org/event/fellowship-dinner-45/
LOCATION:Garland Lodge 441\, 125 E State St\, Garland\, TX\, 75040\, United States
CATEGORIES:Fellowship Dinner
ORGANIZER;CN="Lodge Secretary":MAILTO:secretary@garlandlodge441.org
END:VEVENT
BEGIN:VEVENT
DTSTART;TZID=America/Chicago:20251209T190000
DTEND;TZID=America/Chicago:20251209T200000
DTSTAMP:20260423T135346
CREATED:20240624T231404Z
LAST-MODIFIED:20240624T231404Z
UID:303-1765306800-1765310400@garlandlodge441.org
SUMMARY:Stated Meeting
DESCRIPTION:Stated meetings are held on the second Tuesday of every month.
URL:https://garlandlodge441.org/event/stated-meeting-45/
LOCATION:Garland Lodge 441\, 125 E State St\, Garland\, TX\, 75040\, United States
CATEGORIES:Lodge Meeting
ORGANIZER;CN="Lodge Secretary":MAILTO:secretary@garlandlodge441.org
END:VEVENT
BEGIN:VEVENT
DTSTART;TZID=America/Chicago:20251216T190000
DTEND;TZID=America/Chicago:20251216T200000
DTSTAMP:20260423T135346
CREATED:20240624T233052Z
LAST-MODIFIED:20241016T191910Z
UID:400-1765911600-1765915200@garlandlodge441.org
SUMMARY:Practice Night
DESCRIPTION:Called meetings start at 7pm on Tuesdays that are not stated meetings.
URL:https://garlandlodge441.org/event/called-meeting-59/
LOCATION:Garland Lodge 441\, 125 E State St\, Garland\, TX\, 75040\, United States
CATEGORIES:Lodge Meeting
ORGANIZER;CN="Lodge Secretary":MAILTO:secretary@garlandlodge441.org
END:VEVENT
BEGIN:VEVENT
DTSTART;TZID=America/Chicago:20251223T190000
DTEND;TZID=America/Chicago:20251223T200000
DTSTAMP:20260423T135346
CREATED:20240624T233052Z
LAST-MODIFIED:20241016T191903Z
UID:401-1766516400-1766520000@garlandlodge441.org
SUMMARY:Practice Night
DESCRIPTION:Called meetings start at 7pm on Tuesdays that are not stated meetings.
URL:https://garlandlodge441.org/event/called-meeting-60/
LOCATION:Garland Lodge 441\, 125 E State St\, Garland\, TX\, 75040\, United States
CATEGORIES:Lodge Meeting
ORGANIZER;CN="Lodge Secretary":MAILTO:secretary@garlandlodge441.org
END:VEVENT
BEGIN:VEVENT
DTSTART;TZID=America/Chicago:20251230T190000
DTEND;TZID=America/Chicago:20251230T200000
DTSTAMP:20260423T135346
CREATED:20240624T233253Z
LAST-MODIFIED:20241016T191854Z
UID:402-1767121200-1767124800@garlandlodge441.org
SUMMARY:Practice Night
DESCRIPTION:Called meetings start at 7pm on Tuesdays that are not stated meetings.
URL:https://garlandlodge441.org/event/called-meeting-61/
LOCATION:Garland Lodge 441\, 125 E State St\, Garland\, TX\, 75040\, United States
CATEGORIES:Lodge Meeting
ORGANIZER;CN="Lodge Secretary":MAILTO:secretary@garlandlodge441.org
END:VEVENT
END:VCALENDAR